Felt | Verdi |
AlreadyApplied | True |
Aperture | 8.0 |
ApertureValue | 8.0 |
ApproximateFocusDistance | 4294967295 |
AutoLateralCA | 0 |
BitsPerSample | 8 |
Blacks2012 | 0 |
BlueHue | 0 |
BlueSaturation | 0 |
Brightness | +50 |
CameraProfile | Adobe Standard |
CircleOfConfusion | 0.019 mm |
Clarity | +43 |
Clarity2012 | 0 |
ColorComponents | 1 |
ColorMode | RGB |
ColorNoiseReduction | 25 |
ColorNoiseReductionDetail | 50 |
ColorSpace | sRGB |
ColorTemperature | 5900 |
Contrast | +38 |
Contrast2012 | 0 |
ConvertToGrayscale | False |
CreateDate (1) | 2013:03:08 13:10:36+01:00 |
CreateDate | 2013:03:08 13:10:36 |
Creator | MORTEN URFE |
CreatorTool | Adobe DNG Converter 7.2 (Windows) |
CustomRendered | Normal |
DateCreated | 2013:03:08 |
DateTimeOriginal (1) | 2013:03:08 13:10:36+01:00 |
DateTimeOriginal | 2013:03:08 13:10:36 |
Defringe | 0 |
DOF | inf (1.91 m - inf) |
ExifImageHeight | 3456 |
ExifImageWidth | 5184 |
Exposure | -0.15 |
Exposure2012 | 0.00 |
ExposureCompensation | 0 |
ExposureMode | Auto |
ExposureProgram | Shutter speed priority AE |
ExposureTime | 1/400 |
FillLight | 0 |
Firmware | 1.0.1 |
Flash | Off, Did not fire |
FlashCompensation | 0 |
FlashFired | False |
FlashFunction | False |
FlashMode | Off |
FlashRedEyeMode | False |
FlashReturn | No return detection |
FNumber | 8.0 |
FocalLength | 17.0 mm |
FocalLength35efl | 17.0 mm (35 mm equivalent: 26.9 mm) |
Format | image/jpeg |
FOV | 67.5 deg |
GrainAmount | 0 |
GreenHue | 0 |
GreenSaturation | 0 |
HasCrop | False |
HasSettings | True |
HighlightRecovery | 0 |
Highlights2012 | 0 |
HueAdjustmentAqua | 0 |
HueAdjustmentBlue | 0 |
HueAdjustmentGreen | 0 |
HueAdjustmentMagenta | 0 |
HueAdjustmentOrange | 0 |
HueAdjustmentPurple | 0 |
HueAdjustmentRed | 0 |
HueAdjustmentYellow | 0 |
HyperfocalDistance | 1.91 m |
ICCProfileName | sRGB IEC61966-2.1 |
ImageHeight | 3456 |
ImageNumber | 0 |
ImageSize | 5184x3456 |
ImageWidth | 5184 |
ISO | 100 |
Lens | EF-S17-85mm f/4-5.6 IS USM |
LensID (1) | 234 |
LensID | Canon EF-S 17-85mm f/4-5.6 IS USM |
LensInfo | 17-85mm f/? |
LensManualDistortionAmount | 0 |
LensProfileEnable | 0 |
LensProfileSetup | LensDefaults |
LensSerialNumber | 0000e0e9dc |
LightValue | 14.6 |
LuminanceAdjustmentAqua | 0 |
LuminanceAdjustmentBlue | 0 |
LuminanceAdjustmentGreen | 0 |
LuminanceAdjustmentMagenta | 0 |
LuminanceAdjustmentOrange | 0 |
LuminanceAdjustmentPurple | 0 |
LuminanceAdjustmentRed | 0 |
LuminanceAdjustmentYellow | 0 |
LuminanceSmoothing | 0 |
Make | Canon |
MaxApertureValue | 4.0 |
Megapixels | 17.9 |
MeteringMode | Multi-segment |
Model | Canon EOS 650D |
ModifyDate (1) | 2013:03:09 16:21:38+01:00 |
ModifyDate | 2013:03:09 16:21:38 |
Orientation | Horizontal (normal) |
ParametricDarks | 0 |
ParametricHighlights | 0 |
ParametricHighlightSplit | 75 |
ParametricLights | 0 |
ParametricMidtoneSplit | 50 |
ParametricShadows | 0 |
ParametricShadowSplit | 25 |
PerspectiveHorizontal | 0 |
PerspectiveRotate | 0.0 |
PerspectiveScale | 100 |
PerspectiveVertical | 0 |
PostCropVignetteAmount | 0 |
ProcessVersion | 5.7 |
ProfileDescription | sRGB IEC61966-2.1 |
Rating | 0 |
RawFileName | IMG_0102.dng |
RecommendedExposureIndex | 100 |
RedHue | 0 |
RedSaturation | 0 |
Saturation | 0 |
SaturationAdjustmentAqua | 0 |
SaturationAdjustmentBlue | 0 |
SaturationAdjustmentGreen | 0 |
SaturationAdjustmentMagenta | 0 |
SaturationAdjustmentOrange | 0 |
SaturationAdjustmentPurple | 0 |
SaturationAdjustmentRed | 0 |
SaturationAdjustmentYellow | 0 |
ScaleFactor35efl | 1.6 |
SceneCaptureType | Standard |
SensitivityType | 2 |
SerialNumber | 053033008077 |
Shadows | 13 |
Shadows2012 | 0 |
ShadowTint | 0 |
SharpenDetail | 50 |
SharpenEdgeMasking | 75 |
SharpenRadius | +1.0 |
Sharpness | 63 |
ShutterSpeed | 1/400 |
ShutterSpeedValue | 1/400 |
Software | Adobe Photoshop Elements 10.0 Windows |
SplitToningBalance | 0 |
SplitToningHighlightHue | 0 |
SplitToningHighlightSaturation | 0 |
SplitToningShadowHue | 0 |
SplitToningShadowSaturation | 0 |
SubjectDistance | 4294967295 m |
Tint | +5 |
ToneCurve | 0, 0, 32, 22, 64, 56, 128, 128, 192, 196, 255, 255 |
ToneCurveBlue | 0, 0, 255, 255 |
ToneCurveGreen | 0, 0, 255, 255 |
ToneCurveName | Medium Contrast |
ToneCurveName2012 | Linear |
ToneCurvePV2012 | 0, 0, 255, 255 |
ToneCurvePV2012Blue | 0, 0, 255, 255 |
ToneCurvePV2012Green | 0, 0, 255, 255 |
ToneCurvePV2012Red | 0, 0, 255, 255 |
ToneCurveRed | 0, 0, 255, 255 |
Version | 6.7 |
Vibrance | +39 |
VignetteAmount | 0 |
WhiteBalance (2) | As Shot |
WhiteBalance | Manual |
Whites2012 | 0 |