Felt | Verdi |
AlreadyApplied | True |
Aperture | 2.0 |
ApertureValue | 2.0 |
Artist | Picasa |
BitsPerSample | 8 |
BlueHue | 0 |
BlueSaturation | 0 |
Brightness | +5 |
BrightnessValue (1) | -1.82 |
BrightnessValue | 42949671.14 |
By-line | Picasa |
CameraProfile | Adobe Standard |
ChromaticAberrationB | 0 |
ChromaticAberrationR | 0 |
CircleOfConfusion | 0.009 mm |
Clarity | +3 |
ColorComponents | 3 |
ColorMode | RGB |
ColorNoiseReduction | 25 |
ColorNoiseReductionDetail | 50 |
ColorSpace | Uncalibrated |
ColorTemperature | 6828 |
Contrast | +60 |
ConvertToGrayscale | True |
CreateDate | 2012:05:02 20:48:46 |
Creator | Picasa |
CreatorTool | PaintShop Pro 14,00 |
CropAngle | 0 |
CropBottom | 0.988764 |
CropConstrainToWarp | 0 |
CropHeight | 2816 |
CropLeft | 0.042289 |
CropRight | 0.932836 |
CropTop | 0 |
CropUnit | pixels |
CropWidth | 3819 |
CustomRendered | Normal |
DateCreated | 2012:05:02 |
DateTimeOriginal (1) | 2012:05:02 20:48:46+02:00 |
DateTimeOriginal | 2012:05:02 20:48:46 |
Defringe | 0 |
ExifImageHeight | 701 |
ExifImageWidth | 950 |
Exposure | 0.00 |
ExposureCompensation | 0 |
ExposureMode | Auto |
ExposureProgram | Aperture-priority AE |
ExposureTime | 1/40 |
FillLight | 0 |
Flash | Off, Did not fire |
FlashFired | False |
FlashFunction | False |
FlashMode | Off |
FlashRedEyeMode | False |
FlashReturn | No return detection |
FNumber | 2.0 |
FocalLength | 23.0 mm |
FocalLength35efl | 23.0 mm (35 mm equivalent: 77.9 mm) |
Format | image/jpeg |
FOV | 26.0 deg |
GrainAmount | 0 |
GrayMixerAqua | -19 |
GrayMixerBlue | +7 |
GrayMixerGreen | -24 |
GrayMixerMagenta | +6 |
GrayMixerOrange | -14 |
GrayMixerPurple | +14 |
GrayMixerRed | -43 |
GrayMixerYellow | -17 |
GreenHue | 0 |
GreenSaturation | 0 |
HasCrop | True |
HasSettings | True |
HighlightRecovery | 100 |
HyperfocalDistance | 29.81 m |
ICCProfileName | Adobe RGB (1998) |
ImageHeight (1) | 1475 |
ImageHeight | 701 |
ImageSize | 950x701 |
ImageWidth (2) | 2000 |
ImageWidth | 950 |
ISO | 2000 |
LensManualDistortionAmount | 0 |
LensProfileEnable | 0 |
LensProfileSetup | LensDefaults |
LightSource | Unknown |
LightValue | 3.0 |
LuminanceSmoothing | 0 |
Make | FUJIFILM |
MaxApertureValue | 2.0 |
Megapixels | 0.666 |
MeteringMode | Average |
Model | FinePix X100 |
ModifyDate (1) | 2013:02:17 09:10:34+01:00 |
ModifyDate | 2013:02:17 09:10:34 |
ParametricDarks | +7 |
ParametricHighlights | -100 |
ParametricHighlightSplit | 75 |
ParametricLights | -79 |
ParametricMidtoneSplit | 50 |
ParametricShadows | -9 |
ParametricShadowSplit | 25 |
PerspectiveHorizontal | 0 |
PerspectiveRotate | 0.0 |
PerspectiveScale | 100 |
PerspectiveVertical | 0 |
PostCropVignetteAmount | 0 |
ProcessVersion | 5.7 |
RedHue | 0 |
RedSaturation | 0 |
RelatedImageHeight | 1770 |
RelatedImageWidth | 2400 |
ScaleFactor35efl | 3.4 |
SceneCaptureType | Standard |
SceneType | Directly photographed |
SensingMethod | One-chip color area |
SensitivityType | Standard Output Sensitivity |
Shadows | 17 |
ShadowTint | 0 |
SharpenDetail | 25 |
SharpenEdgeMasking | 0 |
SharpenRadius | +1.0 |
Sharpness (1) | 25 |
Sharpness | Normal |
ShutterSpeed | 1/40 |
ShutterSpeedValue | 1/40 |
Software | Adobe Photoshop Elements 9.0 Windows |
SplitToningBalance | 0 |
SplitToningHighlightHue | 0 |
SplitToningHighlightSaturation | 0 |
SplitToningShadowHue | 0 |
SplitToningShadowSaturation | 0 |
SubjectDistanceRange | Unknown |
Tint | +4 |
ToneCurve | 0, 0, 32, 22, 64, 56, 128, 128, 192, 196, 255, 255 |
ToneCurveName | Medium Contrast |
URL_List | |
Version | 6.6 |
VignetteAmount | 0 |
WhiteBalance (1) | Custom |
WhiteBalance | Auto |