Felt | Verdi |
AlreadyApplied | True |
Aperture | 4.5 |
ApertureValue | 4.5 |
ApproximateFocusDistance | 1.93 |
Artist | Jon Leirdal |
AutoLateralCA | 0 |
BitsPerSample | 8 |
Blacks2012 | -46 |
BlueHue | 0 |
BlueSaturation | 0 |
By-line | Jon Leirdal |
CameraProfile | Adobe Standard |
CircleOfConfusion | 0.006 mm |
City | Oslo |
Clarity2012 | +75 |
ColorComponents | 1 |
ColorNoiseReduction | 25 |
ColorNoiseReductionDetail | 50 |
ColorTemperature | 6650 |
Contrast2012 | +61 |
ConvertToGrayscale | True |
Copyright | © Jon Leirdal |
CopyrightFlag | True |
CopyrightNotice | © Jon Leirdal |
Country | Norway |
Country-PrimaryLocationName | Norway |
CreateDate (1) | 2012:07:03 18:51:08.00 |
CreateDate | 2012:07:03 18:51:08 |
Creator | Jon Leirdal |
CreatorAddress | Sogstikroken 9 |
CreatorCity | Drøbak |
CreatorCountry | Norway |
CreatorPostalCode | N-1440 |
CreatorRegion | Akershus |
CreatorTool | Adobe Photoshop Lightroom 4.1 (Macintosh) |
CreatorWorkEmail | jon-info@leirdal.com |
CreatorWorkTelephone | +47 951 26 727 |
CreatorWorkURL | http://www.leirdal.net |
CropAngle | 0.539621 |
CropBottom | 1 |
CropConstrainToWarp | 0 |
CropHeight | 720 |
CropLeft | 0.01084 |
CropRight | 0.98916 |
CropTop | 0 |
CropUnit | pixels |
CropWidth | 1280 |
CustomRendered | Normal |
DateCreated (1) | 2012:07:03 |
DateCreated | 2012:07:03 18:51:08.00 |
DateTimeOriginal | 2012:07:03 18:51:08 |
DOF | 0.37 m (1.76 - 2.13 m) |
Exposure2012 | +0.55 |
ExposureCompensation | 0 |
ExposureMode | Auto |
ExposureProgram | Program AE |
ExposureTime | 1/60 |
Firmware | 1.1.3 |
Flash | Off, Did not fire |
FlashCompensation | 0 |
FNumber | 4.5 |
FocalLength | 24.0 mm |
FocalLength35efl | 24.0 mm (35 mm equivalent: 113.1 mm) |
Format | image/jpeg |
FOV | 18.1 deg |
GPSAltitude | 16.217 m |
GPSLatitude (1) | 59 deg 54' 32.67" |
GPSLatitude | 59 deg 54' 32.67" N |
GPSLatitudeRef | North |
GPSLongitude (1) | 10 deg 43' 33.96" |
GPSLongitude | 10 deg 43' 33.96" E |
GPSLongitudeRef | East |
GPSPosition | 59 deg 54' 32.67" N, 10 deg 43' 33.96" E |
GPSVersionID | 2.2.0.0 |
GrainAmount | 0 |
GrayMixerAqua | 0 |
GrayMixerBlue | 0 |
GrayMixerGreen | 0 |
GrayMixerMagenta | 0 |
GrayMixerOrange | 0 |
GrayMixerPurple | 0 |
GrayMixerRed | 0 |
GrayMixerYellow | 0 |
GreenHue | 0 |
GreenSaturation | 0 |
HasCrop | True |
HasSettings | True |
Highlights2012 | -77 |
HyperfocalDistance | 20.08 m |
ImageHeight | 1280 |
ImageNumber | 0 |
ImageSize | 720x1280 |
ImageWidth | 720 |
ISO | 100 |
Keywords | Annet, Gateliv, Miscellaneous, Norge, Norway, Oslo, Oslo Kamera Klubb, Photowalk, Place, Sommer, Sted |
Lens | EF24-105mm f/4L IS USM |
LensID (1) | 237 |
LensID | Canon EF 24-105mm f/4L IS USM |
LensInfo | 24-105mm f/? |
LensManualDistortionAmount | 0 |
LensModel | EF24-105mm f/4L IS USM |
LensProfileEnable | 0 |
LensProfileSetup | LensDefaults |
LensSerialNumber | 000011d49d |
LightValue | 10.2 |
Location | Sentrum |
LuminanceSmoothing | 0 |
Make | Canon |
Marked | True |
MaxApertureValue | 4.0 |
Megapixels | 0.922 |
MeteringMode | Center-weighted average |
Model | Canon EOS 5D Mark III |
ModifyDate (1) | 2012:07:04 10:48:10+02:00 |
ModifyDate | 2012:07:04 10:48:10 |
ParametricDarks | 0 |
ParametricHighlights | 0 |
ParametricHighlightSplit | 75 |
ParametricLights | 0 |
ParametricMidtoneSplit | 50 |
ParametricShadows | 0 |
ParametricShadowSplit | 25 |
PerspectiveHorizontal | 0 |
PerspectiveRotate | 0.0 |
PerspectiveScale | 100 |
PerspectiveVertical | 0 |
PostCropVignetteAmount | 0 |
ProcessVersion | 6.7 |
ProfileDescription | sRGB IEC61966-2.1 |
Province-State | Oslo |
Rating | 5 |
RecommendedExposureIndex | 100 |
RedHue | 0 |
RedSaturation | 0 |
Rights | © Jon Leirdal |
ScaleFactor35efl | 4.7 |
SceneCaptureType | Standard |
SensitivityType | Recommended Exposure Index |
SerialNumber | 053023000341 |
Shadows2012 | +30 |
ShadowTint | 0 |
SharpenDetail | 25 |
SharpenEdgeMasking | 0 |
SharpenRadius | +1.0 |
Sharpness | 25 |
ShutterSpeed | 1/60 |
ShutterSpeedValue | 1/60 |
Software | Adobe Photoshop Lightroom 4.1 (Macintosh) |
SplitToningBalance | 0 |
SplitToningHighlightHue | 0 |
SplitToningHighlightSaturation | 0 |
SplitToningShadowHue | 0 |
SplitToningShadowSaturation | 0 |
State | Oslo |
Sub-location | Sentrum |
Subject | Annet, Gateliv, Miscellaneous, Norge, Norway, Oslo, Oslo Kamera Klubb, Photowalk, Place, Sommer, Sted |
Tint | +6 |
ToneCurveName2012 | Linear |
ToneCurvePV2012 | 0, 0, 255, 255 |
ToneCurvePV2012Blue | 0, 0, 255, 255 |
ToneCurvePV2012Green | 0, 0, 255, 255 |
ToneCurvePV2012Red | 0, 0, 255, 255 |
Version | 7.1 |
VignetteAmount | 0 |
WhiteBalance (1) | As Shot |
WhiteBalance | Auto |
Whites2012 | -75 |