Felt | Verdi |
AlreadyApplied | True |
Aperture | 9.5 |
ApertureValue | 9.5 |
ApproximateFNumber | 6.5 |
Artist | Michael L. Storebø |
AutoLateralCA | 0 |
BaseISO | 160 |
BitsPerSample | 8 |
Blacks2012 | +7 |
BlueBalance | 0.794453 |
BlueHue | 0 |
BlueSaturation | 0 |
Brightness | +50 |
By-line | Michael L. Storebø |
CameraProfile | Adobe Standard |
CameraTemperature | 21 C |
Category (1) | Por |
Category | Portrait |
CircleOfConfusion | 0.030 mm |
City | London |
Clarity | 0 |
Clarity2012 | +7 |
ColorComponents | 3 |
ColorNoiseReduction | 29 |
ColorNoiseReductionDetail | 63 |
ColorTemperature | 4350 |
Contrast (1) | +25 |
Contrast | High |
Contrast2012 | +73 |
ConvertToGrayscale | False |
Copyright | ©Michael L. Storebø |
CopyrightFlag | True |
CopyrightNotice | ©Michael L. Storebø |
Country | United Kingdom |
Country-PrimaryLocationName | United Kingdom |
CreateDate | 2012:03:10 17:54:31 |
Creator | Michael L. Storebø |
CreatorAddress | Moldbakken 39 |
CreatorCity | Bergen |
CreatorCountry | Norway |
CreatorPostalCode | 5042 |
CreatorTool | Adobe Photoshop Lightroom 4.0 (Macintosh) |
CreatorWorkEmail | michael.storebo@gmail.com |
CreatorWorkTelephone | +47 93261404 |
CreatorWorkURL | http://www.nixus.no |
DateCreated (1) | 2012:03:10 |
DateCreated | 2012:03:10 17:54:31 |
DateTimeOriginal | 2012:03:10 17:54:31 |
Defringe | 0 |
DigitalZoomRatio | 0 |
Exposure | 0.00 |
Exposure2012 | -0.40 |
ExposureCompensation | 0 |
ExposureMode | Manual |
ExposureProgram | Aperture-priority AE |
ExposureTime | 1/90 |
ExternalSensorBrightnessValue | 2.09 |
FillLight | 0 |
FirmwareVersion | 1.176 |
Flash | No Flash |
FNumber | 9.5 |
FocalLength | 35.0 mm |
FocalLength35efl | 35.0 mm (35 mm equivalent: 35.0 mm) |
FocalLengthIn35mmFormat | 35 mm |
Format | image/jpeg |
FOV | 54.4 deg |
GPSLatitude | |
GPSLatitudeRef | North |
GPSLongitude (1) | |
GPSLongitude | 0 deg 0' 0.00" E |
GPSLongitudeRef | West |
GPSPosition | , 0 deg 0' 0.00" E |
GrainAmount | 0 |
GreenHue | 0 |
GreenSaturation | 0 |
HasCrop | False |
HasSettings | True |
HighlightRecovery | 0 |
Highlights2012 | -46 |
HueAdjustmentAqua | 0 |
HueAdjustmentBlue | 0 |
HueAdjustmentGreen | 0 |
HueAdjustmentMagenta | 0 |
HueAdjustmentOrange | 0 |
HueAdjustmentPurple | 0 |
HueAdjustmentRed | 0 |
HueAdjustmentYellow | 0 |
HyperfocalDistance | 4.29 m |
ImageHeight | 1600 |
ImageSize | 1065x1600 |
ImageWidth | 1065 |
ISO | 2500 |
JPEGQuality | Basic |
JPEGSize | 5216x3472 |
Keywords | Candid, Eric Kim, Landskonkurransen vår 20112, London, Portfolio, Portrait, Street photography, Workshop |
Lens | Leica Summicron-M 35mm f/2 ASPH. |
LensID (1) | 30 |
LensID | Leica Summicron-M 35mm f/2 ASPH. |
LensManualDistortionAmount | 0 |
LensModel | Leica Summicron-M 35mm f/2 ASPH. |
LensProfileChromaticAberrationScale | 100 |
LensProfileDistortionScale | 100 |
LensProfileEnable | 1 |
LensProfileFilename | Leica Camera AG (Leica SUMMICRON-M 35 mm f2 ASPH.) - RAW.lcp |
LensProfileName | Adobe (Leica SUMMICRON-M 35 mm f/2 ASPH.) |
LensProfileSetup | LensDefaults |
LensProfileVignettingScale | 100 |
LensType | Summicron-M 35mm f/2 ASPH. |
LightSource | Unknown |
LightValue | 8.3 |
LuminanceAdjustmentAqua | 0 |
LuminanceAdjustmentBlue | 0 |
LuminanceAdjustmentGreen | 0 |
LuminanceAdjustmentMagenta | 0 |
LuminanceAdjustmentOrange | 0 |
LuminanceAdjustmentPurple | 0 |
LuminanceAdjustmentRed | 0 |
LuminanceAdjustmentYellow | 0 |
LuminanceNoiseReductionContrast | 61 |
LuminanceNoiseReductionDetail | 59 |
LuminanceSmoothing | 39 |
Make | Leica Camera AG |
MakerNoteSafety | Safe |
Marked | True |
MaxApertureValue | 2.0 |
MeasuredLV | 1.15 |
Megapixels | 1.7 |
MeteringMode | Center-weighted average |
Model | M9 Digital Camera |
ModifyDate (1) | 2012:03:27 09:18:39+02:00 |
ModifyDate | 2012:03:27 09:18:39 |
ObjectName | Leave me alone |
PaintCorrectionActive | true |
PaintCorrectionAmount | 1.000000 |
PaintCorrectionBrightness | 0.000000 |
PaintCorrectionClarity2012 | 0.000000 |
PaintCorrectionContrast2012 | 0.000000 |
PaintCorrectionExposure2012 | 0.150000 |
PaintCorrectionHighlights2012 | 0.000000 |
PaintCorrectionHue | 240.000000 |
PaintCorrectionLuminanceNoise | 0.000000 |
PaintCorrectionMaskCenterWeight | 0.142289 |
PaintCorrectionMaskFlow (1) | 0.802907 |
PaintCorrectionMaskFlow (2) | 0.010488 |
PaintCorrectionMaskFlow | 0.171023 |
PaintCorrectionMaskRadius (1) | 0.022197 |
PaintCorrectionMaskRadius (2) | 0.016993 |
PaintCorrectionMaskRadius | 0.016994 |
PaintCorrectionMaskValue | 1.000000 |
PaintCorrectionMaskWhat | Mask/Paint |
PaintCorrectionMoire | 0.000000 |
PaintCorrectionSaturation | 0.000000 |
PaintCorrectionShadows2012 | 0.000000 |
PaintCorrectionSharpness | 0.000000 |
PaintCorrectionTemperature | 0.000000 |
PaintCorrectionTint | 0.000000 |
PaintCorrectionWhat | Correction |
ParametricDarks | 0 |
ParametricHighlights | 0 |
ParametricHighlightSplit | 75 |
ParametricLights | 0 |
ParametricMidtoneSplit | 50 |
ParametricShadows | 0 |
ParametricShadowSplit | 25 |
PerspectiveHorizontal | 0 |
PerspectiveRotate | 0.0 |
PerspectiveScale | 100 |
PerspectiveVertical | 0 |
PostCropVignetteAmount | 0 |
ProcessVersion | 6.7 |
ProfileDescription | sRGB IEC61966-2.1 |
Province-State | England |
Rating | 5 |
RedBalance | 0.471686 |
RedHue | 0 |
RedSaturation | 0 |
Rights | ©Michael L. Storebø |
Saturation (1) | 0 |
Saturation | Black & White |
SaturationAdjustmentAqua | 0 |
SaturationAdjustmentBlue | 0 |
SaturationAdjustmentGreen | 0 |
SaturationAdjustmentMagenta | 0 |
SaturationAdjustmentOrange | 0 |
SaturationAdjustmentPurple | 0 |
SaturationAdjustmentRed | 0 |
SaturationAdjustmentYellow | 0 |
ScaleFactor35efl | 1.0 |
SceneCaptureType | Standard |
SceneType | Directly photographed |
SensorBitDepth | 14 |
SensorHeight | 3516 |
SensorWidth | 5270 |
SerialNumber | 4229922 |
Shadows | 5 |
Shadows2012 | +46 |
ShadowTint | 0 |
SharpenDetail | 8 |
SharpenEdgeMasking | 0 |
Sharpening | Normal |
SharpenRadius | +1.0 |
Sharpness | 4 |
ShutterSpeed | 1/90 |
ShutterSpeedValue | 1/90 |
Software | Adobe Photoshop Lightroom 4.0 (Macintosh) |
SplitToningBalance | 0 |
SplitToningHighlightHue | 0 |
SplitToningHighlightSaturation | 0 |
SplitToningShadowHue | 0 |
SplitToningShadowSaturation | 0 |
State | England |
Subject | Candid, Eric Kim, Landskonkurransen vår 20112, London, Portfolio, Portrait, Street photography, Workshop |
SupplementalCategories | Street Photography |
Tint | -5 |
Title | Leave me alone |
ToneCurve | 0, 0, 255, 255 |
ToneCurveBlue | 0, 0, 255, 255 |
ToneCurveGreen | 0, 0, 255, 255 |
ToneCurveName | Linear |
ToneCurveName2012 | Linear |
ToneCurvePV2012 | 0, 0, 255, 255 |
ToneCurvePV2012Blue | 0, 0, 255, 255 |
ToneCurvePV2012Green | 0, 0, 255, 255 |
ToneCurvePV2012Red | 0, 0, 255, 255 |
ToneCurveRed | 0, 0, 255, 255 |
UserProfile | Profile 1 |
Version | 7.0 |
Vibrance | -14 |
VignetteAmount | 0 |
WB_RGBLevels | 0.4716856197 1 0.7944527954 |
WhiteBalance (2) | Custom |
WhiteBalance | Auto |
Whites2012 | +3 |