Felt | Verdi |
AlreadyApplied | True |
Aperture | 4.8 |
ApertureValue | 4.8 |
Artist | Morten Andersen |
BitsPerSample | 8 |
BlueHue | 0 |
BlueSaturation | 0 |
Brightness | +50 |
By-line | Morten Andersen |
CameraProfile | Adobe Standard |
ChromaticAberrationB | 0 |
ChromaticAberrationR | 0 |
CircleOfConfusion | 0.022 mm |
Clarity | 0 |
ColorComponents | 1 |
ColorNoiseReduction | 25 |
ColorNoiseReductionDetail | 50 |
ColorTemperature | 5600 |
Contrast | +41 |
ConvertToGrayscale | True |
Copyright | Morten andersen |
CopyrightFlag | True |
CopyrightNotice | Morten Andersen |
CreateDate (1) | 2010:05:09 12:33:55+02:00 |
CreateDate | 2010:05:09 12:33:55 |
Creator | Morten Andersen |
CreatorTool | Adobe Photoshop Lightroom |
DateTimeDigitized | 2010:05:09 12:33:55+02:00 |
DateTimeOriginal (1) | 2010:05:09 12:33:55+02:00 |
DateTimeOriginal | 2010:05:09 12:33:55 |
Defringe | 0 |
DigitalSourceType | nil |
DigitalZoomRatio | 0 |
ExifImageHeight | 2634 |
ExifImageWidth | 3916 |
Exposure | 0.00 |
ExposureCompensation | 0 |
ExposureProgram | Aperture-priority AE |
ExposureTime | 1/125 |
FillLight | 0 |
Flash | Auto, Did not fire |
FlashFired | False |
FlashFunction | False |
FlashMode | Auto |
FlashRedEyeMode | False |
FlashReturn | No return detection |
FNumber | 4.8 |
GrainAmount | 0 |
GrayMixerAqua | -21 |
GrayMixerBlue | +3 |
GrayMixerGreen | -22 |
GrayMixerMagenta | +7 |
GrayMixerOrange | +40 |
GrayMixerPurple | +13 |
GrayMixerRed | +31 |
GrayMixerYellow | +40 |
GreenHue | 0 |
GreenSaturation | 0 |
HasCrop | False |
HasSettings | True |
HighlightRecovery | 0 |
ImageHeight | 2634 |
ImageSize | 3916x2634 |
ImageWidth | 3916 |
ISO | 160 |
LensManualDistortionAmount | 0 |
LensProfileEnable | 0 |
LensProfileSetup | LensDefaults |
LightSource | Unknown |
LightValue | 10.8 |
LuminanceSmoothing | 0 |
Make | Leica Camera AG |
Marked | True |
MaxApertureValue | 1.0 |
Megapixels | 10.3 |
MeteringMode | Center-weighted average |
MinorModelAgeDisclosure | Unknown (nil) |
Model | M8 Digital Camera |
ModelReleaseStatus | Unknown (nil) |
ModifyDate (1) | 2010:08:27 12:39:51+02:00 |
ModifyDate | 2010:08:27 12:39:51 |
Orientation | Horizontal (normal) |
ParametricDarks | +17 |
ParametricHighlights | 0 |
ParametricHighlightSplit | 75 |
ParametricLights | -35 |
ParametricMidtoneSplit | 50 |
ParametricShadows | +25 |
ParametricShadowSplit | 25 |
PerspectiveHorizontal | 0 |
PerspectiveRotate | 0.0 |
PerspectiveScale | 100 |
PerspectiveVertical | 0 |
PLUSVersion | 1.2.0 |
PostCropVignetteAmount | 0 |
ProcessVersion | 5.7 |
ProfileDescription | sRGB IEC61966-2.1 |
PropertyReleaseStatus | Unknown (nil) |
RawFileName | L1030308.jpg |
RedHue | 0 |
RedSaturation | +69 |
Rights | Morten Andersen |
ScaleFactor35efl | 1.3 |
SceneCaptureType | Standard |
SceneType | Directly photographed |
SerialNumber | 3109449 |
Shadows | 6 |
ShadowTint | 0 |
SharpenDetail | 25 |
SharpenEdgeMasking | 0 |
SharpenRadius | +1.0 |
Sharpness | 141 |
ShutterSpeed | 1/125 |
ShutterSpeedValue | 1/125 |
Software | 2.004 |
SplitToningBalance | 0 |
SplitToningHighlightHue | 0 |
SplitToningHighlightSaturation | 0 |
SplitToningShadowHue | 0 |
SplitToningShadowSaturation | 0 |
Tint | -1 |
ToneCurve | 0, 0, 36, 12, 76, 43, 126, 130, 177, 208, 255, 255 |
ToneCurveName | Custom |
Version | 6.1 |
VignetteAmount | +8 |
VignetteMidpoint | 50 |
WhiteBalance (2) | Custom |
WhiteBalance | Auto |