Felt | Verdi |
AlreadyApplied | True |
Aperture | 5.6 |
ApertureValue | 5.6 |
Artist | Erlend Krumsvik |
BitsPerSample | 8 |
BlueHue | 0 |
BlueSaturation | 0 |
Brightness | +50 |
By-line | Erlend Krumsvik |
CameraProfile | Adobe Standard |
ChromaticAberrationB | 0 |
ChromaticAberrationR | 0 |
CircleOfConfusion | 0.024 mm |
City | Big Water |
Clarity | +40 |
ColorComponents | 3 |
ColorNoiseReduction | 25 |
ColorSpace | Uncalibrated |
ColorTemperature | 4976 |
Contrast (2) | +46 |
Contrast | Normal |
ConvertToGrayscale | False |
Copyright | Naturlegvis/Erlend Krumsvik |
CopyrightFlag | True |
CopyrightNotice | Naturlegvis/Erlend Krumsvik |
Country | United States |
Country-PrimaryLocationName | United States |
CreateDate | 2009:09:21 12:02:34 |
Creator | Erlend Krumsvik |
CreatorAddress | Øvrevegen 19 |
CreatorCity | Volda |
CreatorCountry | Norway |
CreatorPostalCode | 6100 |
CreatorTool | Adobe Photoshop Lightroom |
CreatorWorkEmail | erlend@naturlegvis.no |
CropAngle | 0 |
CropBottom | 0.982885 |
CropHeight | 724 |
CropLeft | 0 |
CropRight | 0.926532 |
CropTop | 0 |
CropUnit | pixels |
CropWidth | 1024 |
CustomRendered | Normal |
DateTimeDigitized | 2009:09:21 12:02:34+02:00 |
DateTimeOriginal | 2009:09:21 12:02:34 |
Defringe | 0 |
ExifImageHeight | 724 |
ExifImageWidth | 1024 |
Exposure | +0.29 |
ExposureCompensation | 0 |
ExposureMode | Auto |
ExposureProgram | Aperture-priority AE |
ExposureTime | 1/320 |
FillLight | 0 |
Firmware | 1.2.6 |
Flash | Off, Did not fire |
FlashCompensation | 0 |
FlashFired | False |
FlashFunction | False |
FlashMode | Off |
FlashRedEyeMode | False |
FlashReturn | No return detection |
FNumber | 5.6 |
FocalLength | 30.0 mm |
FocalLength35efl | 30.0 mm (35 mm equivalent: 37.4 mm) |
FOV | 51.3 deg |
GeotateGRL | {ab691a38-e860-450f-9996-51930c2e8f1b} |
GPSAltitude (1) | 1642.7510373444 m |
GPSAltitude (2) | 1642.751037 m |
GPSAltitude | 1642.7 m Above Sea Level |
GPSAltitudeRef | Above Sea Level |
GPSDateStamp | 2009:09:21 |
GPSDateTime (1) | 2009:09:21 18:17:07 |
GPSDateTime | 2009:09:21 18:17:07Z |
GPSLatitude (1) | 37 deg 7' 31.71" N |
GPSLatitude | |
GPSLatitudeRef | North |
GPSLongitude (1) | 111 deg 39' 0.30" W |
GPSLongitude (2) | |
GPSLongitude | 0 deg 0' 0.00" E |
GPSLongitudeRef | West |
GPSMapDatum | WGS-84 |
GPSPosition | , 0 deg 0' 0.00" E |
GPSTimeStamp | 18:17:07 |
GPSVersionID | 2 2 0 0 |
GreenHue | 0 |
GreenSaturation | 0 |
HasCrop | True |
HasSettings | True |
HighlightRecovery | 38 |
HueAdjustmentAqua | 0 |
HueAdjustmentBlue | 0 |
HueAdjustmentGreen | 0 |
HueAdjustmentMagenta | 0 |
HueAdjustmentOrange | 0 |
HueAdjustmentPurple | 0 |
HueAdjustmentRed | 0 |
HueAdjustmentYellow | 0 |
HyperfocalDistance | 6.68 m |
ImageHeight | 724 |
ImageNumber | 48 |
ImageSize | 1024x724 |
ImageWidth | 1024 |
ISO | 400 |
Keywords | Big Water, Utah, United States |
Lens | 24 |
LensInfo | 24-70mm f/? |
LightValue | 11.3 |
LuminanceAdjustmentAqua | 0 |
LuminanceAdjustmentBlue | 0 |
LuminanceAdjustmentGreen | 0 |
LuminanceAdjustmentMagenta | 0 |
LuminanceAdjustmentOrange | 0 |
LuminanceAdjustmentPurple | 0 |
LuminanceAdjustmentRed | 0 |
LuminanceAdjustmentYellow | 0 |
LuminanceSmoothing | 0 |
Make | Canon |
Marked | True |
MaxApertureValue | 2.8 |
Megapixels | 0.741 |
MeteringMode | Multi-segment |
Model | Canon EOS-1D Mark II |
ModifyDate (1) | 2009:10:03 23:11:18+02:00 |
ModifyDate | 2009:10:03 23:11:18 |
OwnerName | Erlend Krumsvik |
ParametricDarks | 0 |
ParametricHighlights | 0 |
ParametricHighlightSplit | 75 |
ParametricLights | 0 |
ParametricMidtoneSplit | 50 |
ParametricShadows | 0 |
ParametricShadowSplit | 25 |
PostCropVignetteAmount | 0 |
ProfileDescription | sRGB IEC61966-2.1 |
Province-State | Utah |
RedHue | 0 |
RedSaturation | 0 |
Rights | Naturlegvis/Erlend Krumsvik |
Saturation (2) | +21 |
Saturation | Normal |
SaturationAdjustmentAqua | 0 |
SaturationAdjustmentBlue | 0 |
SaturationAdjustmentGreen | 0 |
SaturationAdjustmentMagenta | 0 |
SaturationAdjustmentOrange | 0 |
SaturationAdjustmentPurple | 0 |
SaturationAdjustmentRed | 0 |
SaturationAdjustmentYellow | 0 |
ScaleFactor35efl | 1.2 |
SceneCaptureType | Standard |
SerialNumber | 222865 |
Shadows | 8 |
ShadowTint | 0 |
SharpenDetail | 25 |
SharpenEdgeMasking | 0 |
SharpenRadius | +1.0 |
Sharpness (2) | 25 |
Sharpness | Normal |
ShutterSpeed | 1/320 |
ShutterSpeedValue | 1/320 |
SplitToningBalance | 0 |
SplitToningHighlightHue | 0 |
SplitToningHighlightSaturation | 0 |
SplitToningShadowHue | 0 |
SplitToningShadowSaturation | 0 |
State | Utah |
Subject | Big Water, Utah, United States |
Tint | -11 |
ToneCurve | 0, 0, 32, 22, 64, 56, 128, 128, 192, 196, 255, 255 |
ToneCurveName | Medium Contrast |
UsageTerms | Opphavsretten tilhører fotografen, og bildene leveres med reproduksjonsrett for en gangs bruk om ikke annet er avtalt. |
UserComment | |
Version | 5.5 |
Vibrance | 0 |
VignetteAmount | 0 |
WhiteBalance (2) | Custom |
WhiteBalance | Manual |