Felt | Verdi |
AlreadyApplied | True |
Aperture | 4.0 |
ApertureValue | 4.0 |
Artist | Erlend Krumsvik |
BitsPerSample (1) | 16, 16, 16 |
BitsPerSample (2) | 16 16 16 |
BitsPerSample | 8 |
BlueHue | 0 |
BlueSaturation | 0 |
Brightness | +50 |
By-line | Erlend Krumsvik |
CameraProfile | Adobe Standard |
ChromaticAberrationB | 0 |
ChromaticAberrationR | 0 |
CircleOfConfusion | 0.024 mm |
Clarity | +12 |
ColorComponents | 3 |
ColorMode | RGB |
ColorNoiseReduction | 25 |
ColorSpace | Uncalibrated |
ColorTemperature | 4857 |
Contrast | +25 |
ConvertToGrayscale | False |
Copyright | Naturlegvis/Erlend Krumsvik |
CopyrightFlag | True |
CopyrightNotice | Naturlegvis/Erlend Krumsvik |
CreateDate (1) | 2009:05:22 21:34:41+02:00 |
CreateDate | 2009:05:22 21:34:41 |
Creator | Erlend Krumsvik |
CreatorAddress | Øvrevegen 19 |
CreatorCity | Volda |
CreatorCountry | Norway |
CreatorPostalCode | 6100 |
CreatorTool | Adobe Photoshop Lightroom |
CreatorWorkEmail | erlend@naturlegvis.no |
CropAngle | 0 |
CropBottom | 0.822564 |
CropHeight | 1847 |
CropLeft | 0.095717 |
CropRight | 0.841103 |
CropTop | 0.031843 |
CropUnit | pixels |
CropWidth | 2612 |
CustomRendered | Normal |
DateTimeDigitized | 2009:05:22 21:34:41+02:00 |
DateTimeOriginal (1) | 2009:05:22 21:34:41+02:00 |
DateTimeOriginal | 2009:05:22 21:34:41 |
Defringe | 0 |
ExifImageHeight | 724 |
ExifImageWidth | 1024 |
Exposure | +0.10 |
ExposureCompensation | 0 |
ExposureMode | Auto |
ExposureProgram | Aperture-priority AE |
ExposureTime | 1/500 |
FillLight | 0 |
Firmware | 1.2.6 |
Flash | Off, Did not fire |
FlashCompensation | 0 |
FlashFired | False |
FlashFunction | False |
FlashMode | Off |
FlashRedEyeMode | False |
FlashReturn | No return detection |
FNumber | 4.0 |
FocalLength | 600.0 mm |
FocalLength35efl | 600.0 mm (35 mm equivalent: 749.0 mm) |
Format | image/jpeg |
FOV | 2.8 deg |
GreenHue | 0 |
GreenSaturation | 0 |
HasCrop | True |
HasSettings | True |
HighlightRecovery | 37 |
HueAdjustmentAqua | 0 |
HueAdjustmentBlue | 0 |
HueAdjustmentGreen | 0 |
HueAdjustmentMagenta | 0 |
HueAdjustmentOrange | 0 |
HueAdjustmentPurple | 0 |
HueAdjustmentRed | 0 |
HueAdjustmentYellow | 0 |
HyperfocalDistance | 3739.19 m |
ICCProfileName | ProPhoto RGB |
ImageHeight (1) | 1847 |
ImageHeight | 724 |
ImageNumber | 60167 |
ImageSize | 1024x724 |
ImageWidth (1) | 2612 |
ImageWidth | 1024 |
ISO | 400 |
Keywords | Alcidae, Alkefamilien, Animalia, Aves, Charadriiformes, Chordata, Dyreriket, Fratercula, Fratercula arctica, Fugler, Geografi, Herøy, Lunde, Lundeura, Møre og Romsdal, Norge, Runde, Ryggstrengdyr, Sunnmøre, Vade- måke- og alkefugler, Vertebrata, Vestlandet, Virveldyr |
Lens | 600.0 mm |
LensInfo | 600mm f/? |
LightValue | 11.0 |
LuminanceAdjustmentAqua | 0 |
LuminanceAdjustmentBlue | 0 |
LuminanceAdjustmentGreen | 0 |
LuminanceAdjustmentMagenta | 0 |
LuminanceAdjustmentOrange | 0 |
LuminanceAdjustmentPurple | 0 |
LuminanceAdjustmentRed | 0 |
LuminanceAdjustmentYellow | 0 |
LuminanceSmoothing | 0 |
Make | Canon |
Marked | True |
MaxApertureValue | 4.0 |
Megapixels | 0.741 |
MeteringMode | Multi-segment |
Model | Canon EOS-1D Mark II |
ModifyDate (1) | 2009:05:28 13:45:23+02:00 |
ModifyDate | 2009:05:28 13:45:23 |
Orientation | Horizontal (normal) |
OwnerName | Erlend Krumsvik |
ParametricDarks | 0 |
ParametricHighlights | 0 |
ParametricHighlightSplit | 75 |
ParametricLights | 0 |
ParametricMidtoneSplit | 50 |
ParametricShadows | 0 |
ParametricShadowSplit | 25 |
PhotometricInterpretation | RGB |
PlanarConfiguration | Chunky |
PostCropVignetteAmount | 0 |
ProfileDescription | ProPhoto RGB |
RedHue | 0 |
RedSaturation | 0 |
Rights | Naturlegvis/Erlend Krumsvik |
SamplesPerPixel | 3 |
Saturation | +19 |
SaturationAdjustmentAqua | 0 |
SaturationAdjustmentBlue | 0 |
SaturationAdjustmentGreen | 0 |
SaturationAdjustmentMagenta | 0 |
SaturationAdjustmentOrange | 0 |
SaturationAdjustmentPurple | 0 |
SaturationAdjustmentRed | 0 |
SaturationAdjustmentYellow | 0 |
ScaleFactor35efl | 1.2 |
SceneCaptureType | Standard |
SerialNumber | 222865 |
Shadows | 6 |
ShadowTint | 0 |
SharpenDetail | 25 |
SharpenEdgeMasking | 0 |
SharpenRadius | +1.0 |
Sharpness | 25 |
ShutterSpeed | 1/500 |
ShutterSpeedValue | 1/500 |
Software | Adobe Photoshop CS4 Windows |
SplitToningBalance | 0 |
SplitToningHighlightHue | 0 |
SplitToningHighlightSaturation | 0 |
SplitToningShadowHue | 0 |
SplitToningShadowSaturation | 0 |
Subject | Alcidae, Alkefamilien, Animalia, Aves, Charadriiformes, Chordata, Dyreriket, Fratercula, Fratercula arctica, Fugler, Geografi, Herøy, Lunde, Lundeura, Møre og Romsdal, Norge, Runde, Ryggstrengdyr, Sunnmøre, Vade- måke- og alkefugler, Vertebrata, Vestlandet, Virveldyr |
Tint | -4 |
ToneCurve | 0, 0, 32, 22, 64, 56, 128, 128, 192, 196, 255, 255 |
ToneCurveName | Medium Contrast |
URL_List | |
UsageTerms | Opphavsretten tilhører fotografen, og bildene leveres med reproduksjonsrett for en gangs bruk om ikke annet er avtalt. |
Version | 5.3 |
Vibrance | 0 |
VignetteAmount | 0 |
WhiteBalance (2) | Custom |
WhiteBalance | Auto |