Felt | Verdi |
AlreadyApplied | True |
Aperture | 2.8 |
ApertureValue | 2.8 |
BitsPerSample | 8 |
BlueHue | 0 |
BlueSaturation | 0 |
Brightness | +25 |
CameraProfile | Embedded |
ChromaticAberrationB | 0 |
ChromaticAberrationR | 0 |
CircleOfConfusion | 0.005 mm |
Clarity | 0 |
ColorComponents | 3 |
ColorNoiseReduction | 25 |
Contrast (2) | -4 |
Contrast | Normal |
ConvertToGrayscale | True |
CreateDate (1) | 2009:04:27 18:59:30+02:00 |
CreateDate | 2009:04:27 18:59:30 |
CreatorTool | Adobe Photoshop Lightroom |
CustomRendered | Normal |
DateTimeDigitized | 2009:04:27 18:59:30+02:00 |
DateTimeOriginal (1) | 2009:04:27 18:59:30+02:00 |
DateTimeOriginal | 2009:04:27 18:59:30 |
Defringe | 0 |
DigitalZoomRatio | 0 |
ExifImageHeight | 2304 |
ExifImageWidth | 3072 |
Exposure | -0.57 |
ExposureCompensation | 0 |
ExposureMode | Auto |
ExposureProgram | Program AE |
ExposureTime | 1/50 |
FillLight | 40 |
Flash | Auto, Did not fire |
FlashFired | False |
FlashFunction | False |
FlashMode | Auto |
FlashRedEyeMode | False |
FlashReturn | No return detection |
FNumber | 2.8 |
FocalLength | 4.6 mm |
FocalLength35efl | 4.6 mm (35 mm equivalent: 28.0 mm) |
FocalLengthIn35mmFormat | 28 mm |
FOV | 65.5 deg |
GainControl | None |
GrayMixerAqua | -10 |
GrayMixerBlue | +20 |
GrayMixerGreen | -19 |
GrayMixerMagenta | +28 |
GrayMixerOrange | +4 |
GrayMixerPurple | +25 |
GrayMixerRed | +29 |
GrayMixerYellow | -13 |
GreenHue | 0 |
GreenSaturation | 0 |
HasCrop | False |
HasSettings | True |
HighlightRecovery | 0 |
HyperfocalDistance | 1.53 m |
ImageHeight | 2304 |
ImageSize | 3072x2304 |
ImageWidth | 3072 |
IncrementalTemperature | -5 |
IncrementalTint | -69 |
ISO | 100 |
LightSource | Unknown |
LightValue | 8.6 |
LuminanceSmoothing | 0 |
Make | LEICA |
MaxApertureValue | 2.8 |
Megapixels | 7.1 |
MeteringMode | Multi-segment |
Model | C-LUX 2 |
ModifyDate (1) | 2009:04:27 23:35:39+02:00 |
ModifyDate | 2009:04:27 23:35:39 |
ParametricDarks | -17 |
ParametricHighlights | 0 |
ParametricHighlightSplit | 75 |
ParametricLights | +28 |
ParametricMidtoneSplit | 50 |
ParametricShadows | 0 |
ParametricShadowSplit | 25 |
PostCropVignetteAmount | 0 |
ProfileDescription | sRGB IEC61966-2.1 |
RedHue | 0 |
RedSaturation | 0 |
Saturation | Normal |
ScaleFactor35efl | 6.1 |
SceneCaptureType | Standard |
SceneType | Directly photographed |
SensingMethod | One-chip color area |
Shadows | 21 |
ShadowTint | 0 |
SharpenDetail | 25 |
SharpenEdgeMasking | 0 |
SharpenRadius | +1.0 |
Sharpness (2) | 25 |
Sharpness | Normal |
ShutterSpeed | 1/50 |
ShutterSpeedValue | 1/50 |
Software | Ver.1.0 |
SplitToningBalance | 0 |
SplitToningHighlightHue | 52 |
SplitToningHighlightSaturation | 64 |
SplitToningShadowHue | 37 |
SplitToningShadowSaturation | 22 |
ToneCurve | 0, 0, 32, 22, 64, 56, 128, 128, 192, 196, 255, 255 |
ToneCurveName | Medium Contrast |
Version | 5.2 |
VignetteAmount | 0 |
WhiteBalance (2) | Custom |
WhiteBalance | Auto |