Felt | Verdi |
AlreadyApplied | True |
Aperture | 8.0 |
ApertureValue | 8.0 |
AutoLateralCA | 0 |
BitsPerSample | 8 |
Blacks2012 | +49 |
BlueHue | 0 |
BlueSaturation | 0 |
BrightnessValue | 7.0484375 |
CameraProfile | Adobe Standard |
CircleOfConfusion | 0.030 mm |
Clarity2012 | +34 |
ColorComponents | 3 |
ColorGradeBlending | 50 |
ColorGradeGlobalHue | 0 |
ColorGradeGlobalLum | 0 |
ColorGradeGlobalSat | 0 |
ColorGradeHighlightLum | 0 |
ColorGradeMidtoneHue | 0 |
ColorGradeMidtoneLum | 0 |
ColorGradeMidtoneSat | 0 |
ColorGradeShadowLum | 0 |
ColorNoiseReduction | 25 |
ColorNoiseReductionDetail | 50 |
ColorNoiseReductionSmoothness | 50 |
ColorSpace | sRGB |
ColorTemperature | 6000 |
ColorTransform | YCbCr |
CompatibleVersion | 268632064 |
Contrast | Normal |
Contrast2012 | +36 |
CreateDate (1) | 2024:07:25 07:09:32.145+02:00 |
CreateDate | 2024:07:25 07:09:32 |
CreatorTool | Adobe Photoshop Lightroom Classic 13.4 (Windows) |
CropAngle | 0.79 |
CropBottom | 1 |
CropConstrainToWarp | 0 |
CropLeft | 0.010811 |
CropRight | 0.973144 |
CropTop | 0.010554 |
CustomRendered | Normal |
DateCreated (1) | 2024:07:25 |
DateCreated | 2024:07:25 07:09:32.145+02:00 |
DateTimeOriginal | 2024:07:25 07:09:32 |
DefringeGreenAmount | 0 |
DefringeGreenHueHi | 60 |
DefringeGreenHueLo | 40 |
DefringePurpleAmount | 0 |
DefringePurpleHueHi | 70 |
DefringePurpleHueLo | 30 |
Dehaze | +39 |
DigitalZoomRatio | 1 |
DistortionCorrectionAlreadyApplied | True |
Exposure2012 | 0.00 |
ExposureCompensation | 0 |
ExposureMode | Manual |
ExposureProgram | Manual |
ExposureTime | 1/100 |
Flash | Off, Did not fire |
FNumber | 8.0 |
FocalLength | 41.0 mm |
FocalLength35efl | 41.0 mm (35 mm equivalent: 41.0 mm) |
FocalLengthIn35mmFormat | 41 mm |
Format | image/jpeg |
FOV | 47.4 deg |
GrainAmount | 0 |
GreenHue | 0 |
GreenSaturation | 0 |
HasCrop | True |
HasSettings | True |
HDREditMode | 0 |
Highlights2012 | -100 |
HueAdjustmentAqua | 0 |
HueAdjustmentBlue | 0 |
HueAdjustmentGreen | 0 |
HueAdjustmentMagenta | 0 |
HueAdjustmentOrange | 0 |
HueAdjustmentPurple | 0 |
HueAdjustmentRed | 0 |
HueAdjustmentYellow | 0 |
HyperfocalDistance | 6.99 m |
ImageHeight | 4529 |
ImageSize | 6807x4529 |
ImageWidth | 6807 |
ISO | 100 |
LateralChromaticAberrationCorrectionAlreadyApplied | True |
Lens | FE 24-70mm F2.8 GM II |
LensDistortInfo | 1051202136/1073741824 9940741/1073741824 14584965/1073741824 -2008015/1073741824 |
LensInfo | 24-70mm f/2.8 |
LensManualDistortionAmount | 0 |
LensModel | FE 24-70mm F2.8 GM II |
LensProfileDistortionScale | 100 |
LensProfileEnable | 1 |
LensProfileFilename | SONY (Sony FE 24-70mm F2.8 GM II) - RAW.lcp |
LensProfileIsEmbedded | False |
LensProfileName | Adobe (Sony FE 24-70mm F2.8 GM II) |
LensProfileSetup | LensDefaults |
LensProfileVignettingScale | 100 |
LightSource | Cloudy |
LightValue | 12.6 |
LookAmount | 1 |
LookGroup | Profiles |
LookName | Adobe Color |
LookParametersCameraProfile | Adobe Standard |
LookParametersConvertToGrayscale | False |
LookParametersLookTable | E1095149FDB39D7A057BAB208837E2E1 |
LookParametersProcessVersion | 15.4 |
LookParametersToneCurvePV2012 | 0, 0, 22, 16, 40, 35, 127, 127, 224, 230, 240, 246, 255, 255 |
LookParametersToneCurvePV2012Blue | 0, 0, 255, 255 |
LookParametersToneCurvePV2012Green | 0, 0, 255, 255 |
LookParametersToneCurvePV2012Red | 0, 0, 255, 255 |
LookParametersVersion | 16.4 |
LookSupportsAmount | false |
LookSupportsMonochrome | false |
LookSupportsOutputReferred | false |
LuminanceAdjustmentAqua | 0 |
LuminanceAdjustmentBlue | 0 |
LuminanceAdjustmentGreen | 0 |
LuminanceAdjustmentMagenta | 0 |
LuminanceAdjustmentOrange | 0 |
LuminanceAdjustmentPurple | 0 |
LuminanceAdjustmentRed | 0 |
LuminanceAdjustmentYellow | 0 |
LuminanceSmoothing | 0 |
Make | SONY |
MaxApertureValue | 2.8 |
Megapixels | 30.8 |
MeteringMode | Center-weighted average |
Model | ILCE-7M4 |
ModifyDate (1) | 2024:07:29 19:48:45+02:00 |
ModifyDate | 2024:07:29 19:48:45 |
OverrideLookVignette | False |
ParametricDarks | +62 |
ParametricHighlights | +32 |
ParametricHighlightSplit | 75 |
ParametricLights | +30 |
ParametricMidtoneSplit | 50 |
ParametricShadows | 0 |
ParametricShadowSplit | 25 |
PerspectiveAspect | 0 |
PerspectiveHorizontal | 0 |
PerspectiveRotate | 0.0 |
PerspectiveScale | 100 |
PerspectiveUpright | 0 |
PerspectiveVertical | 0 |
PerspectiveX | 0.00 |
PerspectiveY | 0.00 |
Pick | 0 |
PointColors | -1.000000, -1.000000, -1.000000, -1.000000, -1.000000, -1.000000, -1.000000, -1.000000, -1.000000, -1.000000, -1.000000, -1.000000, -1.000000, -1.000000, -1.000000, -1.000000, -1.000000, -1.000000, -1.000000 |
PostCropVignetteAmount | 0 |
PreservedFileName | DSC05227.ARW |
ProcessVersion | 15.4 |
ProfileDescription | sRGB IEC61966-2.1 |
RawFileName | DSC05227.dng |
RecommendedExposureIndex | 100 |
RedHue | 0 |
RedSaturation | 0 |
RemoveAreasFeather | 0 |
RemoveAreasFill_method | firefly |
RemoveAreasHealVersion | 2 |
RemoveAreasMasksAlpha | 0 |
RemoveAreasMasksCenterValue | 1 |
RemoveAreasMasksGestureCenterWeight | 0 |
RemoveAreasMasksGestureFlow | 1 |
RemoveAreasMasksGestureMaskActive | true |
RemoveAreasMasksGestureMaskBlendMode | 0 |
RemoveAreasMasksGestureMaskInverted | false |
RemoveAreasMasksGestureMaskSyncID (1) | 8677224B52C90848A8848E6FC8BC6CC7 |
RemoveAreasMasksGestureMaskSyncID (2) | ED7F4827EF30414CAB345EBB6A50568E |
RemoveAreasMasksGestureMaskSyncID | ECB09E23B1FC98418AAA4CC45DA8E563 |
RemoveAreasMasksGestureMaskValue | 1 |
RemoveAreasMasksGestureRadius | 0 |
RemoveAreasMasksGestureWhat | Mask/Paint |
RemoveAreasMasksMaskActive | true |
RemoveAreasMasksMaskBlendMode | 0 |
RemoveAreasMasksMaskInverted | false |
RemoveAreasMasksMaskSubType | 0 |
RemoveAreasMasksMaskSyncID (1) | 8BD7242BF55AFD439167DA6D9F7AFD09 |
RemoveAreasMasksMaskSyncID (2) | 0FD275F8D41EA04BAA728F5838F34D0B |
RemoveAreasMasksMaskSyncID (3) | 809A7C28B2BCD741BAB27FBDD2A1B7FC |
RemoveAreasMasksMaskSyncID (4) | 1B4829073991A648B2B34C57D0338FA9 |
RemoveAreasMasksMaskSyncID (5) | E44B520D2E900E49B691CA964C823912 |
RemoveAreasMasksMaskSyncID | D459BCA5D874DC428BFA7314999BA0D0 |
RemoveAreasMasksMaskValue | 1 |
RemoveAreasMasksMaskVersion | 1 |
RemoveAreasMasksModelVersion | 234881976 |
RemoveAreasMasksOrigin (1) | 1306,1223 |
RemoveAreasMasksOrigin (2) | 1586,1080 |
RemoveAreasMasksOrigin | 1540,1042 |
RemoveAreasMasksPerimeterValue | 0 |
RemoveAreasMasksReferencePoint (1) | 0.462702 0.675855 |
RemoveAreasMasksReferencePoint (2) | 0.560165 0.585935 |
RemoveAreasMasksReferencePoint | 0.549142 0.571779 |
RemoveAreasMasksSizeX (1) | 0.008763 |
RemoveAreasMasksSizeX (2) | 0.008719 |
RemoveAreasMasksSizeX | 0.008718 |
RemoveAreasMasksSizeY (1) | 0.008763 |
RemoveAreasMasksSizeY (2) | 0.008719 |
RemoveAreasMasksSizeY | 0.008718 |
RemoveAreasMasksWhat (5) | Mask/Ellipse |
RemoveAreasMasksWhat | Mask/Image |
RemoveAreasMasksWholeImageArea | 0/1,0/1,1920/1,2880/1 |
RemoveAreasMasksX (1) | 0.594769 |
RemoveAreasMasksX (2) | 0.599021 |
RemoveAreasMasksX | 0.519997 |
RemoveAreasMasksY (1) | 0.049049 |
RemoveAreasMasksY (2) | 0.20302 |
RemoveAreasMasksY | 0.173276 |
RemoveAreasMethod | gaussian |
RemoveAreasOffsetY (1) | 0.078801 |
RemoveAreasOffsetY (2) | 0.249467 |
RemoveAreasOffsetY | 0.174774 |
RemoveAreasOpacity | 1 |
RemoveAreasPm_black_level | 2048 |
RemoveAreasPm_clio_model_version | 1.0.5-beta.1-1.2_1.2-8c2cea4-0.1.27.1r16.2 |
RemoveAreasPm_gamma_type | 1 |
RemoveAreasPm_input_digest | 6A381BBCB39ED518F45979B2F1E3AE30 |
RemoveAreasPm_mask_remap_info | 0.000000000,1.000000000,0.000000000,1.000000000 |
RemoveAreasPm_patch (1) | 3F5EC4AC284E98A8B2DF7925E53649CA |
RemoveAreasPm_patch (2) | 17FEFEB34468FC0F3DE9806E77AB5A79 |
RemoveAreasPm_patch | B97A703C75961A6C1FF1C63B0C990582 |
RemoveAreasPm_patch_mask (1) | A0DC613D3DDDE103A20CB89AB82E4269 |
RemoveAreasPm_patch_mask (2) | 28BBBC21E73C37060CA1307A0CBD9F3A |
RemoveAreasPm_patch_mask | 462CF0EC2AFB6FCD49BA64519F9C433A |
RemoveAreasPm_patch_variationsPm_patch_variation (1) | DB52B21C02262680D959A4F77375B9CD |
RemoveAreasPm_patch_variationsPm_patch_variation (2) | 7290589533DF8B2E552CADB2BA89FE9F |
RemoveAreasPm_patch_variationsPm_patch_variation (3) | 82D618339FD79BCBF47E80604C9E67FA |
RemoveAreasPm_patch_variationsPm_patch_variation (4) | A885295957CDC9E30D8AA656F19F1379 |
RemoveAreasPm_patch_variationsPm_patch_variation (5) | A3C6716C47F593D0BF51AA3BACDACA46 |
RemoveAreasPm_patch_variationsPm_patch_variation | 6AD0864DE422E0111842A29F5FC091F8 |
RemoveAreasPm_remap_info_0 (1) | 0.031586174,0.125688568,0.000000000,1.000000000 |
RemoveAreasPm_remap_info_0 (2) | 0.032227054,0.094758525,0.000000000,1.000000000 |
RemoveAreasPm_remap_info_0 | 0.035217822,0.098908983,0.000000000,1.000000000 |
RemoveAreasPm_remap_info_1 (1) | 0.032227054,0.229907677,0.000000000,1.000000000 |
RemoveAreasPm_remap_info_1 (2) | 0.033920806,0.193514913,0.000000000,1.000000000 |
RemoveAreasPm_remap_info_1 | 0.040344853,0.211429000,0.000000000,1.000000000 |
RemoveAreasPm_remap_info_2 (1) | 0.032059204,0.140367746,0.000000000,1.000000000 |
RemoveAreasPm_remap_info_2 (2) | 0.032562751,0.143205926,0.000000000,1.000000000 |
RemoveAreasPm_remap_info_2 | 0.036301214,0.154634923,0.000000000,1.000000000 |
RemoveAreasPm_remap_info_variation_0_0 (1) | 0.031738766,0.132707715,0.000000000,1.000000000 |
RemoveAreasPm_remap_info_variation_0_0 (2) | 0.032135502,0.109208822,0.000000000,1.000000000 |
RemoveAreasPm_remap_info_variation_0_0 | 0.034241244,0.110811017,0.000000000,1.000000000 |
RemoveAreasPm_remap_info_variation_0_1 (1) | 0.032501716,0.229907677,0.000000000,1.000000000 |
RemoveAreasPm_remap_info_variation_0_1 (2) | 0.033920806,0.199206531,0.000000000,1.000000000 |
RemoveAreasPm_remap_info_variation_0_1 | 0.038941026,0.243350878,0.000000000,1.000000000 |
RemoveAreasPm_remap_info_variation_0_2 (1) | 0.032166019,0.150438696,0.000000000,1.000000000 |
RemoveAreasPm_remap_info_variation_0_2 (2) | 0.032562751,0.135759518,0.000000000,1.000000000 |
RemoveAreasPm_remap_info_variation_0_2 | 0.036423285,0.172320127,0.000000000,1.000000000 |
RemoveAreasPm_remap_info_variation_1_0 (1) | 0.031799801,0.117647059,0.000000000,1.000000000 |
RemoveAreasPm_remap_info_variation_1_0 (2) | 0.032135502,0.092591748,0.000000000,1.000000000 |
RemoveAreasPm_remap_info_variation_1_0 | 0.034790568,0.116975665,0.000000000,1.000000000 |
RemoveAreasPm_remap_info_variation_1_1 (1) | 0.032501716,0.213138014,0.000000000,1.000000000 |
RemoveAreasPm_remap_info_variation_1_1 (2) | 0.034149691,0.185320824,0.000000000,1.000000000 |
RemoveAreasPm_remap_info_variation_1_1 | 0.039536126,0.256443113,0.000000000,1.000000000 |
RemoveAreasPm_remap_info_variation_1_2 (1) | 0.032257572,0.138460368,0.000000000,1.000000000 |
RemoveAreasPm_remap_info_variation_1_2 (2) | 0.033005264,0.133958951,0.000000000,1.000000000 |
RemoveAreasPm_remap_info_variation_1_2 | 0.036301214,0.190280005,0.000000000,1.000000000 |
RemoveAreasPm_search_bottom (1) | 3377 |
RemoveAreasPm_search_bottom (2) | 3484 |
RemoveAreasPm_search_bottom | 3008 |
RemoveAreasPm_search_left (1) | 3108 |
RemoveAreasPm_search_left (2) | 3746 |
RemoveAreasPm_search_left | 3662 |
RemoveAreasPm_search_right (1) | 3453 |
RemoveAreasPm_search_right (2) | 4454 |
RemoveAreasPm_search_right | 4070 |
RemoveAreasPm_search_top (1) | 2902 |
RemoveAreasPm_search_top (2) | 2511 |
RemoveAreasPm_search_top | 2447 |
RemoveAreasPm_source_type | full |
RemoveAreasPm_target_bottom (1) | 3298 |
RemoveAreasPm_target_bottom (2) | 3366 |
RemoveAreasPm_target_bottom | 2837 |
RemoveAreasPm_target_left (1) | 3187 |
RemoveAreasPm_target_left (2) | 3864 |
RemoveAreasPm_target_left | 3755 |
RemoveAreasPm_target_right (1) | 3344 |
RemoveAreasPm_target_right (2) | 4051 |
RemoveAreasPm_target_right | 3977 |
RemoveAreasPm_target_top (1) | 2981 |
RemoveAreasPm_target_top (2) | 2629 |
RemoveAreasPm_target_top | 2540 |
RemoveAreasPm_version | 327680 |
RemoveAreasPm_whole_image_bottom | 4680 |
RemoveAreasPm_whole_image_left | 12 |
RemoveAreasPm_whole_image_right | 7020 |
RemoveAreasPm_whole_image_top | 8 |
RemoveAreasSeed (5) | 3 |
RemoveAreasSeed | 2 |
RemoveAreasSourceState | sourceAutoComputed |
RemoveAreasSourceX (1) | 0.634866 |
RemoveAreasSourceX (2) | 0.71232 |
RemoveAreasSourceX | 0.541116 |
RemoveAreasSpotType (3) | heal |
RemoveAreasSpotType | heal_patchmatch |
Saturation (1) | +12 |
Saturation | Normal |
SaturationAdjustmentAqua | 0 |
SaturationAdjustmentBlue | 0 |
SaturationAdjustmentGreen | 0 |
SaturationAdjustmentMagenta | 0 |
SaturationAdjustmentOrange | 0 |
SaturationAdjustmentPurple | 0 |
SaturationAdjustmentRed | 0 |
SaturationAdjustmentYellow | 0 |
ScaleFactor35efl | 1.0 |
SceneCaptureType | Standard |
SceneType | Directly photographed |
SensitivityType | Recommended Exposure Index |
Shadows2012 | +100 |
ShadowTint | 0 |
SharpenDetail | 25 |
SharpenEdgeMasking | 0 |
SharpenRadius | +1.0 |
Sharpness (1) | 40 |
Sharpness | Normal |
ShutterSpeed | 1/100 |
ShutterSpeedValue | 1/100 |
Software | Adobe Photoshop Lightroom Classic 13.4 (Windows) |
SplitToningBalance | 0 |
SplitToningHighlightHue | 0 |
SplitToningHighlightSaturation | 0 |
SplitToningShadowHue | 0 |
SplitToningShadowSaturation | 0 |
Texture | +47 |
Tint | +13 |
ToneCurveName2012 | Linear |
ToneCurvePV2012 | 0, 0, 255, 255 |
ToneCurvePV2012Blue | 0, 0, 255, 255 |
ToneCurvePV2012Green | 0, 0, 255, 255 |
ToneCurvePV2012Red | 0, 0, 255, 255 |
Version | 16.4 |
Vibrance | +5 |
VignetteAmount | 0 |
VignetteCorrectionAlreadyApplied | True |
WhiteBalance (1) | As Shot |
WhiteBalance | Manual |
Whites2012 | +41 |