Felt | Verdi |
AlreadyApplied | True |
Aperture | 13.0 |
ApertureValue | 13.0 |
ApplyAutomatically | False |
ApproximateFocusDistance | 27.3 |
Artist | Roy Pettersen |
AutoLateralCA | 1 |
BitsPerSample | 8 |
Blacks2012 | 0 |
BlueHue | 0 |
BlueSaturation | 0 |
By-line | Roy Pettersen |
CameraProfile | Adobe Standard |
CircleOfConfusion | 0.021 mm |
City | Almuñécar |
Clarity2012 | 0 |
ColorComponents | 3 |
ColorGradeBlending | 50 |
ColorGradeGlobalHue | 0 |
ColorGradeGlobalLum | 0 |
ColorGradeGlobalSat | 0 |
ColorGradeHighlightLum | 0 |
ColorGradeMidtoneHue | 0 |
ColorGradeMidtoneLum | 0 |
ColorGradeMidtoneSat | 0 |
ColorGradeShadowLum | 0 |
ColorNoiseReduction | 25 |
ColorNoiseReductionDetail | 50 |
ColorNoiseReductionSmoothness | 50 |
ColorSpace | sRGB |
ColorTemperature | 5000 |
ColorTransform | YCbCr |
Contrast | Normal |
Contrast2012 | 0 |
Copyright | RP-Foto |
CopyrightNotice | RP-Foto |
CorrectionAlreadyApplied | False |
Country | Spania |
Country-PrimaryLocationCode | ES |
Country-PrimaryLocationName | Spania |
CountryCode | ES |
CreateDate | 2023:10:07 08:12:02 |
Creator | Roy Pettersen |
CreatorTool | Adobe Photoshop Lightroom Classic 12.5 (Windows) |
CropAngle | 0 |
CropBottom | 0.704641 |
CropConstrainToWarp | 0 |
CropLeft | 0.033645 |
CropRight | 0.751402 |
CropTop | 0 |
CustomRendered | Normal |
DateCreated (1) | 2023:10:07 |
DateCreated | 2023:10:07 08:12:02 |
DateTimeOriginal | 2023:10:07 08:12:02 |
DefringeGreenAmount | 0 |
DefringeGreenHueHi | 60 |
DefringeGreenHueLo | 40 |
DefringePurpleAmount | 0 |
DefringePurpleHueHi | 70 |
DefringePurpleHueLo | 30 |
Dehaze | 0 |
DerivedFromVersionID | 02.00 |
DigitalZoomRatio | 0 |
DistortionCorrectionAlreadyApplied | True |
DOF | inf (3.79 m - inf) |
Exposure2012 | 0.00 |
ExposureCompensation | 0 |
ExposureMode | Auto |
ExposureProgram | Aperture-priority AE |
ExposureTime | 1/180 |
Flash | No Flash |
FNumber | 13.0 |
FocalLength | 35.0 mm |
FocalLength35efl | 35.0 mm (35 mm equivalent: 49.0 mm) |
FocalLength35mm | 35.0000000000 |
Format | image/jpeg |
FOV | 40.3 deg |
GPSAltitude (1) | 16 m |
GPSAltitude | 16 m Above Sea Level |
GPSAltitudeRef | Above Sea Level |
GPSDateStamp | 2023:10:07 |
GPSDateTime | 2023:10:07 06:14:05Z |
GPSLatitude (1) | 36 deg 44' 45.00" |
GPSLatitude | 36 deg 44' 45.00" N |
GPSLatitudeRef | North |
GPSLongitude (1) | 3 deg 39' 47.00" |
GPSLongitude | 3 deg 39' 47.00" W |
GPSLongitudeRef | West |
GPSPosition | 36 deg 44' 45.00" N, 3 deg 39' 47.00" W |
GPSProcessingMethod | GPS |
GPSSpeed | 0 |
GPSSpeedRef | km/h |
GPSStatus | Measurement Active |
GPSTimeStamp | 06:14:05 |
GPSTrackRef | True North |
GPSVersionID | 2.3.0.0 |
GrainAmount | 0 |
GreenHue | 0 |
GreenSaturation | 0 |
HasCrop | True |
HasSettings | True |
Highlights2012 | 0 |
HueAdjustmentAqua | 0 |
HueAdjustmentBlue | 0 |
HueAdjustmentGreen | 0 |
HueAdjustmentMagenta | 0 |
HueAdjustmentOrange | 0 |
HueAdjustmentPurple | 0 |
HueAdjustmentRed | 0 |
HueAdjustmentYellow | 0 |
HyperfocalDistance | 4.39 m |
ImageHeight | 4459 |
ImageSize | 6839x4459 |
ImageWidth | 6839 |
ISO | 320 |
ISOSpeed | 320 |
LateralChromaticAberrationCorrectionAlreadyApplied | True |
Lens | Summilux-M 1:1.4/35 ASPH. |
LensInfo | 35mm f/1.4 |
LensMake | Leica Camera AG |
LensManualDistortionAmount | 0 |
LensModel | Summilux-M 1:1.4/35 ASPH. |
LensProfileDistortionScale | 100 |
LensProfileEnable | 1 |
LensProfileFilename | Leica Camera AG (Leica SUMMILUX-M 35 mm f1.4 ASPH.) - RAW.lcp |
LensProfileIsEmbedded | False |
LensProfileName | Adobe (Leica SUMMILUX-M 35 mm f/1.4 ASPH.) |
LensProfileSetup | LensDefaults |
LensProfileVignettingScale | 100 |
LightSource | Unknown |
LightValue | 13.2 |
Location | Velilla-Taramay |
LookAmount | 1 |
LookGroup | Profiles |
LookName | Adobe Landscape |
LookParametersCameraProfile | Adobe Standard |
LookParametersClarity2012 | +10 |
LookParametersConvertToGrayscale | False |
LookParametersHighlights2012 | -12 |
LookParametersLookTable | 0B3BFB5CFB7DBF7FF175E98F24D316B0 |
LookParametersProcessVersion | 15.4 |
LookParametersShadows2012 | +12 |
LookParametersToneCurvePV2012 | 0, 0, 64, 60, 128, 128, 192, 196, 255, 255 |
LookParametersVersion | 15.5 |
LookSupportsAmount | false |
LookSupportsMonochrome | false |
LookSupportsOutputReferred | false |
LuminanceAdjustmentAqua | 0 |
LuminanceAdjustmentBlue | 0 |
LuminanceAdjustmentGreen | 0 |
LuminanceAdjustmentMagenta | 0 |
LuminanceAdjustmentOrange | 0 |
LuminanceAdjustmentPurple | 0 |
LuminanceAdjustmentRed | 0 |
LuminanceAdjustmentYellow | 0 |
LuminanceNoiseReductionContrast | 0 |
LuminanceNoiseReductionDetail | 50 |
LuminanceSmoothing | 8 |
Make | Leica Camera AG |
MaxApertureValue | 1.4 |
Megapixels | 30.5 |
MeteringMode | Multi-segment |
Model | LEICA M11 |
ModifyDate (1) | 2023:10:08 09:31:57+02:00 |
ModifyDate | 2023:10:08 09:31:57 |
NormalizedCropCorners | 0.0086919982, 0.0000000000, 0.9973451495, 0.0136147775, 0.9889511466, 0.9998478293, 0.0050132098, 0.9862980247 |
OverrideLookVignette | False |
ParametricDarks | 0 |
ParametricHighlights | 0 |
ParametricHighlightSplit | 75 |
ParametricLights | 0 |
ParametricMidtoneSplit | 50 |
ParametricShadows | 0 |
ParametricShadowSplit | 25 |
PerspectiveAspect | 0 |
PerspectiveHorizontal | 0 |
PerspectiveRotate | 0.0 |
PerspectiveScale | 100 |
PerspectiveUpright | 0 |
PerspectiveVertical | 0 |
PerspectiveX | 0.00 |
PerspectiveY | 0.00 |
PitchAngle | -0.4050000012 |
PostCropVignetteAmount | 0 |
PreservedFileName | L1000110.DNG |
ProcessVersion | 15.4 |
ProfileDescription | sRGB IEC61966-2.1 |
Province-State | Granada |
RawFileName | L1000110.DNG |
RedHue | 0 |
RedSaturation | 0 |
Rights | RP-Foto |
RollAngle | -0.5260000229 |
Saturation (1) | 0 |
Saturation | Normal |
SaturationAdjustmentAqua | 0 |
SaturationAdjustmentBlue | 0 |
SaturationAdjustmentGreen | 0 |
SaturationAdjustmentMagenta | 0 |
SaturationAdjustmentOrange | 0 |
SaturationAdjustmentPurple | 0 |
SaturationAdjustmentRed | 0 |
SaturationAdjustmentYellow | 0 |
ScaleFactor35efl | 1.4 |
ScalingFactorHeight | 0.9863368273 |
SceneCaptureType | Standard |
SceneType | Directly photographed |
SensitivityType | ISO Speed |
SerialNumber | 5696263 |
Shadows2012 | 0 |
ShadowTint | 0 |
SharpenDetail | 25 |
SharpenEdgeMasking | 0 |
SharpenRadius | +1.0 |
Sharpness (1) | 40 |
Sharpness | Normal |
ShutterSpeed | 1/180 |
ShutterSpeedValue | 1/180 |
Software | Adobe Photoshop Lightroom Classic 12.5 (Windows) |
SplitToningBalance | 0 |
SplitToningHighlightHue | 0 |
SplitToningHighlightSaturation | 0 |
SplitToningShadowHue | 0 |
SplitToningShadowSaturation | 0 |
State | Granada |
Sub-location | Velilla-Taramay |
TargetAspectRatio | 1.5000000000 |
Texture | 0 |
Tint | +17 |
ToneCurveName2012 | Linear |
ToneCurvePV2012 | 0, 0, 255, 255 |
ToneCurvePV2012Blue | 0, 0, 255, 255 |
ToneCurvePV2012Green | 0, 0, 255, 255 |
ToneCurvePV2012Red | 0, 0, 255, 255 |
ValidCropCorners | True |
Version (1) | 1.0.0 |
Version | 15.5 |
VersionID | 02.00 |
Vibrance | 0 |
VignetteAmount | 0 |
WhiteBalance (1) | As Shot |
WhiteBalance | Auto |
Whites2012 | 0 |