Felt | Verdi |
2023-11-07T02:36:38+01:00 File 20230807_Amsterdamtur-70-5192.psd saved
AlreadyApplied | True |
Aperture | 7.1 |
ApertureValue | 7.1 |
ApproximateFocusDistance | 4294967295 |
Artist | Igor Kostin |
AutoLateralCA | 0 |
BitsPerSample | 8 |
Blacks2012 | -44 |
BlueHue | 0 |
BlueSaturation | 0 |
By-line | Igor Kostin |
CameraProfile | Embedded |
CircleOfConfusion | 0.009 mm |
Clarity2012 | +10 |
ColorComponents | 3 |
ColorGradeBlending | 100 |
ColorGradeGlobalHue | 0 |
ColorGradeGlobalLum | 0 |
ColorGradeGlobalSat | 0 |
ColorGradeHighlightLum | 0 |
ColorGradeMidtoneHue | 20 |
ColorGradeMidtoneLum | 0 |
ColorGradeMidtoneSat | 7 |
ColorGradeShadowLum | 0 |
ColorNoiseReduction | 0 |
ColorSpace | Uncalibrated |
ColorTransform | YCbCr |
Contrast2012 | 0 |
ConvertToGrayscale | False |
Copyright | All rights reserved |
CopyrightFlag | True |
CopyrightNotice | All rights reserved |
CreateDate (1) | 2023:08:09 19:32:18.06Z |
CreateDate | 2023:08:09 19:32:18 |
Creator | Igor Kostin |
CreatorCity | Bodø |
CreatorCountry | Norway |
CreatorTool | Adobe Photoshop Lightroom Classic 13.0.1 (Macintosh) |
CropAngle | 0 |
CropBottom | 1 |
CropConstrainToWarp | 0 |
CropLeft | 0 |
CropRight | 1 |
CropTop | 0 |
CurveRefineSaturation | 100 |
CustomRendered | Normal |
DateCreated (1) | 2023:08:09 |
DateCreated | 2023:08:09 19:32:18.006 |
DateTimeOriginal | 2023:08:09 19:32:18 |
DefringeGreenAmount | 0 |
DefringeGreenHueHi | 60 |
DefringeGreenHueLo | 40 |
DefringePurpleAmount | 0 |
DefringePurpleHueHi | 70 |
DefringePurpleHueLo | 30 |
Dehaze | 0 |
DistortionCorrectionAlreadyApplied | True |
DOF | inf (18.84 m - inf) |
Exposure2012 | 0.00 |
ExposureCompensation | 0 |
ExposureMode | Manual |
ExposureProgram | Manual |
ExposureTime | 1/500 |
Firmware | 1.7.0 |
Flash | No Flash |
FlashCompensation | 0 |
FNumber | 7.1 |
FocalLength | 35.0 mm |
FocalLength35efl | 35.0 mm (35 mm equivalent: 114.9 mm) |
Format | image/jpeg |
FOV | 17.8 deg |
GrainAmount | 20 |
GrainFrequency | 50 |
GrainSize | 17 |
GreenHue | 0 |
GreenSaturation | 0 |
HasCrop | False |
HasSettings | True |
HDREditMode | 0 |
Highlights2012 | -100 |
HueAdjustmentAqua | +4 |
HueAdjustmentBlue | +4 |
HueAdjustmentGreen | +7 |
HueAdjustmentMagenta | +6 |
HueAdjustmentOrange | -4 |
HueAdjustmentPurple | -4 |
HueAdjustmentRed | 0 |
HueAdjustmentYellow | -4 |
HyperfocalDistance | 18.84 m |
ImageHeight | 2048 |
ImageNumber | 0 |
ImageSize | 1365x2048 |
ImageWidth | 1365 |
IncrementalTemperature | 0 |
IncrementalTint | 0 |
ISO | 250 |
Keywords | 2022, 2023, @igorkostin74, Bodø, Canon, CanonEOSR, Digital, Landscape, Natur, Nordland, Norge, Norway, Sørfold, exposure, travel |
LateralChromaticAberrationCorrectionAlreadyApplied | True |
Lens | RF35mm F1.8 MACRO IS STM |
LensID (1) | 61182 |
LensID | Canon RF 35mm F1.8 Macro IS STM |
LensInfo | 35mm f/? |
LensManualDistortionAmount | 0 |
LensModel | RF35mm F1.8 MACRO IS STM |
LensProfileEnable | 0 |
LensSerialNumber | 0000000000 |
LightValue | 13.3 |
LuminanceAdjustmentAqua | 0 |
LuminanceAdjustmentBlue | -9 |
LuminanceAdjustmentGreen | 0 |
LuminanceAdjustmentMagenta | +19 |
LuminanceAdjustmentOrange | -7 |
LuminanceAdjustmentPurple | 0 |
LuminanceAdjustmentRed | -19 |
LuminanceAdjustmentYellow | 0 |
LuminanceSmoothing | 0 |
Make | Canon |
Marked | True |
MaxApertureValue | 1.8 |
Megapixels | 2.8 |
MeteringMode | Multi-segment |
Model | Canon EOS R |
ModifyDate (1) | 2023:11:07 02:43:37+01:00 |
ModifyDate | 2023:11:07 02:43:37 |
OverrideLookVignette | False |
ParametricDarks | 0 |
ParametricHighlights | 0 |
ParametricHighlightSplit | 75 |
ParametricLights | 0 |
ParametricMidtoneSplit | 50 |
ParametricShadows | 0 |
ParametricShadowSplit | 25 |
PerspectiveAspect | 0 |
PerspectiveHorizontal | 0 |
PerspectiveRotate | 0.0 |
PerspectiveScale | 100 |
PerspectiveUpright | 0 |
PerspectiveVertical | 0 |
PerspectiveX | 0.00 |
PerspectiveY | 0.00 |
PostCropVignetteAmount | 0 |
PreservedFileName | _Q3A9655.CR3 |
ProcessVersion | 15.4 |
ProfileDescription | Display P3 |
Rating | 5 |
RawFileName | 20230807_Amsterdamtur-70-5192.psd |
RecommendedExposureIndex | 250 |
RedHue | 0 |
RedSaturation | 0 |
Rights | All rights reserved |
Saturation | -1 |
SaturationAdjustmentAqua | -16 |
SaturationAdjustmentBlue | -2 |
SaturationAdjustmentGreen | -15 |
SaturationAdjustmentMagenta | -28 |
SaturationAdjustmentOrange | -7 |
SaturationAdjustmentPurple | -25 |
SaturationAdjustmentRed | -14 |
SaturationAdjustmentYellow | -7 |
ScaleFactor35efl | 3.3 |
SceneCaptureType | Standard |
SensitivityType | Recommended Exposure Index |
SerialNumber | 032021005303 |
Shadows2012 | -4 |
ShadowTint | 0 |
Sharpness | 0 |
ShutterSpeed | 1/500 |
ShutterSpeedValue | 1/500 |
Software | Adobe Photoshop Lightroom Classic 13.0.1 (Macintosh) |
SplitToningBalance | -8 |
SplitToningHighlightHue | 25 |
SplitToningHighlightSaturation | 2 |
SplitToningShadowHue | 204 |
SplitToningShadowSaturation | 7 |
Subject | 2022, 2023, @igorkostin74, Bodø, Canon, CanonEOSR, Digital, Landscape, Natur, Nordland, Norge, Norway, Sørfold, exposure, travel |
Texture | 0 |
ToneCurveName2012 | Custom |
ToneCurvePV2012 | 0, 9, 39, 48, 111, 121, 176, 179, 255, 237 |
ToneCurvePV2012Blue | 0, 0, 255, 255 |
ToneCurvePV2012Green | 0, 0, 28, 32, 71, 71, 101, 103, 165, 166, 255, 255 |
ToneCurvePV2012Red | 0, 0, 255, 255 |
UsageTerms | Please contact |
Version | 16.0 |
Vibrance | 0 |
VignetteAmount | 0 |
VignetteCorrectionAlreadyApplied | True |
WeightedFlatSubject | 2022, 2023, @igorkostin74, Bodø, Canon, CanonEOSR, Digital, Landscape, Natur, Nordland, Norge, Norway, Sørfold, exposure, travel |
WhiteBalance (1) | As Shot |
WhiteBalance | Auto |
Whites2012 | +23 |