Felt | Verdi |
AlreadyApplied | True |
Aperture | 5.6 |
ApertureValue | 5.6 |
ApproximateFocusDistance | 4294967295 |
AutoLateralCA | 0 |
BitsPerSample (1) | 16 16 16 |
BitsPerSample | 8 |
Blacks2012 | -19 |
BlueHue | 0 |
BlueSaturation | 0 |
CameraProfile | Embedded |
CircGradBasedCorrActive | true |
CircGradBasedCorrAmount | 1.000000 |
CircGradBasedCorrBrightness | 0.000000 |
CircGradBasedCorrClarity2012 | 0.000000 |
CircGradBasedCorrContrast2012 | 0.000000 |
CircGradBasedCorrCorrectionRangeMaskColorAmount | 0.500000 |
CircGradBasedCorrCorrectionRangeMaskDepthFeather | 0.500000 |
CircGradBasedCorrCorrectionRangeMaskDepthMax | 1.000000 |
CircGradBasedCorrCorrectionRangeMaskDepthMin | 0.000000 |
CircGradBasedCorrCorrectionRangeMaskLumFeather | 0.500000 |
CircGradBasedCorrCorrectionRangeMaskLumMax | 1.000000 |
CircGradBasedCorrCorrectionRangeMaskLumMin | 0.000000 |
CircGradBasedCorrCorrectionRangeMaskType | 0 |
CircGradBasedCorrCorrectionRangeMaskVersion | +2 |
CircGradBasedCorrDefringe | 0.000000 |
CircGradBasedCorrExposure2012 (1) | -0.179500 |
CircGradBasedCorrExposure2012 (2) | -0.111000 |
CircGradBasedCorrExposure2012 | -0.094000 |
CircGradBasedCorrHighlights2012 (1) | -0.213680 |
CircGradBasedCorrHighlights2012 | 0.000000 |
CircGradBasedCorrHue | 240.000000 |
CircGradBasedCorrLocalBlacks2012 | 0.000000 |
CircGradBasedCorrLocalDehaze | 0.000000 |
CircGradBasedCorrLocalHue | 0.000000 |
CircGradBasedCorrLocalTexture | 0.000000 |
CircGradBasedCorrLocalWhites2012 | 0.000000 |
CircGradBasedCorrLuminanceNoise | 0.000000 |
CircGradBasedCorrMaskAngle | 0.000000 |
CircGradBasedCorrMaskBottom (1) | 0.817669 |
CircGradBasedCorrMaskBottom (2) | 0.875000 |
CircGradBasedCorrMaskBottom | 0.790413 |
CircGradBasedCorrMaskFeather | +50 |
CircGradBasedCorrMaskFlipped | true |
CircGradBasedCorrMaskLeft (1) | -0.542493 |
CircGradBasedCorrMaskLeft (2) | 0.165722 |
CircGradBasedCorrMaskLeft | -1.430600 |
CircGradBasedCorrMaskMidpoint | +50 |
CircGradBasedCorrMaskRight (1) | 1.437680 |
CircGradBasedCorrMaskRight (2) | 0.919263 |
CircGradBasedCorrMaskRight | 2.745040 |
CircGradBasedCorrMaskRoundness | 0 |
CircGradBasedCorrMaskTop (1) | 0.526315 |
CircGradBasedCorrMaskTop (2) | 0.421992 |
CircGradBasedCorrMaskTop | 0.365601 |
CircGradBasedCorrMaskValue | 1.000000 |
CircGradBasedCorrMaskVersion | +2 |
CircGradBasedCorrMaskWhat | Mask/CircularGradient |
CircGradBasedCorrMoire | 0.000000 |
CircGradBasedCorrSaturation | 0.000000 |
CircGradBasedCorrShadows2012 | 0.000000 |
CircGradBasedCorrSharpness | 0.000000 |
CircGradBasedCorrTemperature (2) | 0.000000 |
CircGradBasedCorrTemperature | -0.025640 |
CircGradBasedCorrTint | 0.000000 |
CircGradBasedCorrWhat | Correction |
CircleOfConfusion | 0.029 mm |
Clarity2012 | +11 |
ColorComponents | 3 |
ColorMode | RGB |
ColorNoiseReduction | 0 |
ColorSpace | Uncalibrated |
ColorTransform | YCbCr |
Contrast2012 | +28 |
ConvertToGrayscale | False |
CreateDate | 2021:12:10 14:02:18 |
CreatorTool | Adobe Photoshop Lightroom Classic 9.4 (Windows) |
CustomRendered | Normal |
DateCreated (1) | 2021:12:10 |
DateCreated | 2021:12:10 14:02:18 |
DateTimeOriginal | 2021:12:10 14:02:18 |
DefringeGreenAmount | 0 |
DefringeGreenHueHi | 60 |
DefringeGreenHueLo | 40 |
DefringePurpleAmount | 0 |
DefringePurpleHueHi | 70 |
DefringePurpleHueLo | 30 |
Dehaze | 0 |
DistortionCorrectionAlreadyApplied | True |
DOF | inf (44.47 m - inf) |
ExifImageHeight | 6046 |
ExifImageWidth | 4011 |
Exposure2012 | 0.00 |
ExposureCompensation | 0 |
ExposureMode | Manual |
ExposureProgram | Manual |
ExposureTime | 1/50 |
Firmware | 1.0.4 |
Flash | Off, Did not fire |
FlashCompensation | 0 |
FNumber | 5.6 |
FocalLength | 85.0 mm |
FocalLength35efl | 85.0 mm (35 mm equivalent: 88.0 mm) |
Format | image/jpeg |
FOV | 23.1 deg |
GradientBasedCorrActive | true |
GradientBasedCorrAmount | 1.000000 |
GradientBasedCorrBrightness | 0.000000 |
GradientBasedCorrClarity2012 | 0.000000 |
GradientBasedCorrContrast2012 | 0.000000 |
GradientBasedCorrCorrectionRangeMaskColorAmount | 0.500000 |
GradientBasedCorrCorrectionRangeMaskDepthFeather | 0.500000 |
GradientBasedCorrCorrectionRangeMaskDepthMax | 1.000000 |
GradientBasedCorrCorrectionRangeMaskDepthMin | 0.000000 |
GradientBasedCorrCorrectionRangeMaskLumFeather | 0.500000 |
GradientBasedCorrCorrectionRangeMaskLumMax | 1.000000 |
GradientBasedCorrCorrectionRangeMaskLumMin | 0.000000 |
GradientBasedCorrCorrectionRangeMaskType | 0 |
GradientBasedCorrCorrectionRangeMaskVersion | +2 |
GradientBasedCorrDefringe | 0.000000 |
GradientBasedCorrExposure2012 (1) | -0.196500 |
GradientBasedCorrExposure2012 (5) | -0.008500 |
GradientBasedCorrExposure2012 (6) | -0.042750 |
GradientBasedCorrExposure2012 | 0.000000 |
GradientBasedCorrHighlights2012 (5) | -0.247860 |
GradientBasedCorrHighlights2012 (6) | -0.350430 |
GradientBasedCorrHighlights2012 | 0.000000 |
GradientBasedCorrHue | 240.000000 |
GradientBasedCorrLocalBlacks2012 (1) | -0.042740 |
GradientBasedCorrLocalBlacks2012 | 0.000000 |
GradientBasedCorrLocalDehaze | 0.000000 |
GradientBasedCorrLocalHue | 0.000000 |
GradientBasedCorrLocalTexture | 0.000000 |
GradientBasedCorrLocalWhites2012 | 0.000000 |
GradientBasedCorrLuminanceNoise | 0.000000 |
GradientBasedCorrMaskFullX (1) | 0.478753 |
GradientBasedCorrMaskFullX (2) | 0.494334 |
GradientBasedCorrMaskFullX (3) | 0.470255 |
GradientBasedCorrMaskFullX (4) | 0.417847 |
GradientBasedCorrMaskFullX (5) | 0.360706 |
GradientBasedCorrMaskFullX (6) | -0.090652 |
GradientBasedCorrMaskFullX | 0.382436 |
GradientBasedCorrMaskFullY (1) | -0.012218 |
GradientBasedCorrMaskFullY (3) | -0.009398 |
GradientBasedCorrMaskFullY (4) | 1.007520 |
GradientBasedCorrMaskFullY (5) | 0.285706 |
GradientBasedCorrMaskFullY (6) | 0.625939 |
GradientBasedCorrMaskFullY | 0.812970 |
GradientBasedCorrMaskValue | 1.000000 |
GradientBasedCorrMaskWhat | Mask/Gradient |
GradientBasedCorrMaskZeroX (1) | 0.484419 |
GradientBasedCorrMaskZeroX (2) | 0.490085 |
GradientBasedCorrMaskZeroX (3) | 0.424929 |
GradientBasedCorrMaskZeroX (4) | 0.413598 |
GradientBasedCorrMaskZeroX (5) | 0.364506 |
GradientBasedCorrMaskZeroX (6) | 0.492918 |
GradientBasedCorrMaskZeroX | 0.389518 |
GradientBasedCorrMaskZeroY (1) | 1.138160 |
GradientBasedCorrMaskZeroY (2) | 0.605263 |
GradientBasedCorrMaskZeroY (3) | 1.148500 |
GradientBasedCorrMaskZeroY (4) | 0.621241 |
GradientBasedCorrMaskZeroY (5) | 0.809219 |
GradientBasedCorrMaskZeroY (6) | 0.621240 |
GradientBasedCorrMaskZeroY | 0.136278 |
GradientBasedCorrMoire | 0.000000 |
GradientBasedCorrSaturation (5) | 0.641030 |
GradientBasedCorrSaturation (7) | -0.316240 |
GradientBasedCorrSaturation | 0.000000 |
GradientBasedCorrShadows2012 (2) | 0.435900 |
GradientBasedCorrShadows2012 | 0.000000 |
GradientBasedCorrSharpness (3) | 0.179490 |
GradientBasedCorrSharpness | 0.000000 |
GradientBasedCorrTemperature (1) | 0.000000 |
GradientBasedCorrTemperature | -0.213680 |
GradientBasedCorrTint | 0.000000 |
GradientBasedCorrWhat | Correction |
GrainAmount | 0 |
GreenHue | 0 |
GreenSaturation | 0 |
HasCrop | False |
HasSettings | True |
Highlights2012 | +44 |
HueAdjustmentAqua | 0 |
HueAdjustmentBlue | 0 |
HueAdjustmentGreen | 0 |
HueAdjustmentMagenta | 0 |
HueAdjustmentOrange | 0 |
HueAdjustmentPurple | 0 |
HueAdjustmentRed | 0 |
HueAdjustmentYellow | 0 |
HyperfocalDistance | 44.47 m |
ICCProfileName | Adobe RGB (1998) |
ImageHeight | 6046 |
ImageNumber | 0 |
ImageSize | 4011x6046 |
ImageWidth | 4011 |
IncrementalTemperature | +5 |
IncrementalTint | -7 |
ISO | 200 |
LateralChromaticAberrationCorrectionAlreadyApplied | True |
Lens | TAMRON 35-150mm F/2.8-4.0 Di VC OSD A043 |
LensID (1) | 117 |
LensID | Tamron 35-150mm f/2.8-4.0 Di VC OSD (A043) |
LensInfo | 35-150mm f/? |
LensManualDistortionAmount | 0 |
LensModel | TAMRON 35-150mm F/2.8-4.0 Di VC OSD A043 |
LensProfileEnable | 0 |
LensProfileSetup | LensDefaults |
LensSerialNumber | 0000000000 |
LightValue | 9.6 |
LuminanceAdjustmentAqua | 0 |
LuminanceAdjustmentBlue | 0 |
LuminanceAdjustmentGreen | 0 |
LuminanceAdjustmentMagenta | 0 |
LuminanceAdjustmentOrange | 0 |
LuminanceAdjustmentPurple | 0 |
LuminanceAdjustmentRed | 0 |
LuminanceAdjustmentYellow | 0 |
LuminanceNoiseReductionContrast | 21 |
LuminanceNoiseReductionDetail | 69 |
LuminanceSmoothing | 17 |
Make | Canon |
MaxApertureValue | 3.5 |
Megapixels | 24.3 |
MeteringMode | Multi-segment |
Model | Canon EOS 6D Mark II |
ModifyDate (1) | 2021:12:12 11:42:50+01:00 |
ModifyDate | 2021:12:12 11:42:50 |
Orientation | Horizontal (normal) |
OverrideLookVignette | False |
PaintCorrectionActive | true |
PaintCorrectionAmount | 1.000000 |
PaintCorrectionBrightness | 0.000000 |
PaintCorrectionClarity2012 | 0.213680 |
PaintCorrectionContrast2012 | 0.000000 |
PaintCorrectionCorrectionRangeMaskColorAmount | 0.500000 |
PaintCorrectionCorrectionRangeMaskDepthFeather | 0.500000 |
PaintCorrectionCorrectionRangeMaskDepthMax | 1.000000 |
PaintCorrectionCorrectionRangeMaskDepthMin | 0.000000 |
PaintCorrectionCorrectionRangeMaskLumFeather | 0.272730 |
PaintCorrectionCorrectionRangeMaskLumMax | 1.000000 |
PaintCorrectionCorrectionRangeMaskLumMin | 0.148148 |
PaintCorrectionCorrectionRangeMaskType | +2 |
PaintCorrectionCorrectionRangeMaskVersion | +2 |
PaintCorrectionDefringe | 0.000000 |
PaintCorrectionExposure2012 | 0.000000 |
PaintCorrectionHighlights2012 | 0.000000 |
PaintCorrectionHue | 240.000000 |
PaintCorrectionLocalBlacks2012 | 0.111110 |
PaintCorrectionLocalDehaze | 0.000000 |
PaintCorrectionLocalHue | 0.000000 |
PaintCorrectionLocalTexture | 0.000000 |
PaintCorrectionLocalWhites2012 | 0.111110 |
PaintCorrectionLuminanceNoise | 0.076920 |
PaintCorrectionMaskCenterWeight | 0.000000 |
PaintCorrectionMaskFlow | 1.000000 |
PaintCorrectionMaskRadius | 0.043388 |
PaintCorrectionMaskValue | 1.000000 |
PaintCorrectionMaskWhat | Mask/Paint |
PaintCorrectionMoire | 0.000000 |
PaintCorrectionSaturation (1) | -0.452990 |
PaintCorrectionSaturation | 0.000000 |
PaintCorrectionShadows2012 | 0.384620 |
PaintCorrectionSharpness | 0.247860 |
PaintCorrectionTemperature | 0.000000 |
PaintCorrectionTint | 0.000000 |
PaintCorrectionWhat | Correction |
ParametricDarks | 0 |
ParametricHighlights | 0 |
ParametricHighlightSplit | 75 |
ParametricLights | 0 |
ParametricMidtoneSplit | 50 |
ParametricShadows | 0 |
ParametricShadowSplit | 25 |
PerspectiveAspect | 0 |
PerspectiveHorizontal | 0 |
PerspectiveRotate | 0.0 |
PerspectiveScale | 100 |
PerspectiveUpright | 0 |
PerspectiveVertical | 0 |
PerspectiveX | 0.00 |
PerspectiveY | 0.00 |
PhotometricInterpretation | RGB |
PlanarConfiguration | Chunky |
PostCropVignetteAmount | 0 |
PreservedFileName | skyformasjon2021-1.TIF |
ProcessVersion | 11.0 |
ProfileDescription | Adobe RGB (1998) |
RangeMaskMapInfoRangeMaskMapInfoLabMax | 0.999619 0.644556 0.572976 |
RangeMaskMapInfoRangeMaskMapInfoLabMin | 0.000275 0.473228 0.405188 |
RangeMaskMapInfoRangeMaskMapInfoRGBMax | 0.786313 0.801266 0.797803 |
RangeMaskMapInfoRangeMaskMapInfoRGBMin | 0.001602 0.001724 0.005539 |
RawFileName | |
RecommendedExposureIndex | 200 |
RedHue | 0 |
RedSaturation | 0 |
SamplesPerPixel | 3 |
Saturation | -33 |
SaturationAdjustmentAqua | 0 |
SaturationAdjustmentBlue | 0 |
SaturationAdjustmentGreen | 0 |
SaturationAdjustmentMagenta | 0 |
SaturationAdjustmentOrange | 0 |
SaturationAdjustmentPurple | 0 |
SaturationAdjustmentRed | 0 |
SaturationAdjustmentYellow | 0 |
ScaleFactor35efl | 1.0 |
SceneCaptureType | Standard |
SensitivityType | Recommended Exposure Index |
SerialNumber | 302052002458 |
Shadows2012 | +9 |
ShadowTint | 0 |
SharpenDetail | 25 |
SharpenEdgeMasking | 0 |
SharpenRadius | +1.0 |
Sharpness | 22 |
ShutterSpeed | 1/50 |
ShutterSpeedValue | 1/50 |
Software | Adobe Photoshop CC 2019 (Windows) |
SplitToningBalance | 0 |
SplitToningHighlightHue | 0 |
SplitToningHighlightSaturation | 0 |
SplitToningShadowHue | 0 |
SplitToningShadowSaturation | 0 |
Texture | 0 |
ToneCurve | 0, 0, 255, 255 |
ToneCurveBlue | 0, 0, 255, 255 |
ToneCurveGreen | 0, 0, 255, 255 |
ToneCurveName | Linear |
ToneCurveName2012 | Custom |
ToneCurvePV2012 | 0, 6, 41, 34, 111, 120, 255, 255 |
ToneCurvePV2012Blue | 0, 0, 255, 255 |
ToneCurvePV2012Green | 0, 0, 255, 255 |
ToneCurvePV2012Red | 0, 0, 255, 255 |
ToneCurveRed | 0, 0, 255, 255 |
ToneMapStrength | 0 |
URL_List | |
Version | 12.4 |
Vibrance | +7 |
VignetteAmount | 0 |
VignetteCorrectionAlreadyApplied | True |
WhiteBalance (1) | Custom |
WhiteBalance | Manual |
Whites2012 | -21 |