Felt | Verdi |
AlreadyApplied | True |
Aperture | 3.2 |
ApertureValue | 3.2 |
ApproximateFocusDistance | 4.48 |
Artist | Roy P.Pettersen |
AutoLateralCA | 1 |
BitsPerSample | 8 |
Blacks2012 | 0 |
BlueHue | 0 |
BlueSaturation | 0 |
By-line | Roy P.Pettersen |
CameraProfile | Adobe Standard |
CircleOfConfusion | 0.030 mm |
Clarity2012 | 0 |
ColorComponents | 3 |
ColorGradeBlending | 50 |
ColorGradeGlobalHue | 0 |
ColorGradeGlobalLum | 0 |
ColorGradeGlobalSat | 0 |
ColorGradeHighlightLum | 0 |
ColorGradeMidtoneHue | 0 |
ColorGradeMidtoneLum | 0 |
ColorGradeMidtoneSat | 0 |
ColorGradeShadowLum | 0 |
ColorNoiseReduction | 25 |
ColorNoiseReductionDetail | 50 |
ColorNoiseReductionSmoothness | 50 |
ColorSpace | sRGB |
ColorTemperature | 4950 |
ColorTransform | YCbCr |
Contrast2012 | 0 |
Copyright | (C) RP |
CopyrightNotice | (C) RP |
CreateDate (1) | 2021:08:29 12:46:30.48+01:00 |
CreateDate | 2021:08:29 12:46:30 |
Creator | Roy P.Pettersen |
CreatorTool | Adobe Photoshop Lightroom Classic 10.4 (Windows) |
CropAngle | 0 |
CropBottom | 0.713386 |
CropConstrainToWarp | 0 |
CropLeft | 0.304622 |
CropRight | 0.672269 |
CropTop | 0.343307 |
CustomRendered | Normal |
DateCreated (1) | 2021:08:29 |
DateCreated | 2021:08:29 12:46:30.48+01:00 |
DateTimeOriginal | 2021:08:29 12:46:30 |
DefringeGreenAmount | 0 |
DefringeGreenHueHi | 60 |
DefringeGreenHueLo | 40 |
DefringePurpleAmount | 0 |
DefringePurpleHueHi | 70 |
DefringePurpleHueLo | 30 |
Dehaze | 0 |
DistortionCorrectionAlreadyApplied | True |
DOF | 0.78 m (4.12 - 4.91 m) |
Exposure2012 | +0.26 |
ExposureCompensation | 0 |
ExposureMode | Auto |
ExposureProgram | Shutter speed priority AE |
ExposureTime | 1/1600 |
Firmware | 1.4.0 |
Flash | No Flash |
FlashCompensation | 0 |
FNumber | 3.2 |
FocalLength | 70.0 mm |
FocalLength35efl | 70.0 mm (35 mm equivalent: 69.9 mm) |
Format | image/jpeg |
FOV | 28.9 deg |
GrainAmount | 0 |
GreenHue | 0 |
GreenSaturation | 0 |
HasCrop | True |
HasSettings | True |
Highlights2012 | 0 |
HueAdjustmentAqua | 0 |
HueAdjustmentBlue | 0 |
HueAdjustmentGreen | 0 |
HueAdjustmentMagenta | 0 |
HueAdjustmentOrange | 0 |
HueAdjustmentPurple | 0 |
HueAdjustmentRed | 0 |
HueAdjustmentYellow | 0 |
HyperfocalDistance | 50.89 m |
ImageHeight | 3012 |
ImageNumber | 0 |
ImageSize | 2022x3012 |
ImageWidth | 2022 |
ISO | 400 |
LateralChromaticAberrationCorrectionAlreadyApplied | True |
Lens | RF24-70mm F2.8 L IS USM |
LensID (1) | 61182 |
LensID | Canon RF 24-70mm F2.8 L IS USM |
LensInfo | 24-70mm f/? |
LensManualDistortionAmount | 0 |
LensModel | RF24-70mm F2.8 L IS USM |
LensProfileDistortionScale | 100 |
LensProfileEnable | 1 |
LensProfileFilename | Canon (Canon RF 24-70mm F2.8 L IS USM) - RAW.lcp |
LensProfileIsEmbedded | False |
LensProfileName | Adobe (Canon RF 24-70mm F2.8 L IS USM) |
LensProfileSetup | LensDefaults |
LensProfileVignettingScale | 100 |
LensSerialNumber | 8203002395 |
LightValue | 12.0 |
LookAmount | 1.000000 |
LookGroup | Profiles |
LookName | Adobe Color |
LookParametersCameraProfile | Adobe Standard |
LookParametersConvertToGrayscale | False |
LookParametersLookTable | E1095149FDB39D7A057BAB208837E2E1 |
LookParametersProcessVersion | 11.0 |
LookParametersToneCurvePV2012 | 0, 0, 22, 16, 40, 35, 127, 127, 224, 230, 240, 246, 255, 255 |
LookParametersToneCurvePV2012Blue | 0, 0, 255, 255 |
LookParametersToneCurvePV2012Green | 0, 0, 255, 255 |
LookParametersToneCurvePV2012Red | 0, 0, 255, 255 |
LookParametersVersion | 13.3 |
LookSupportsAmount | false |
LookSupportsMonochrome | false |
LookSupportsOutputReferred | false |
LuminanceAdjustmentAqua | 0 |
LuminanceAdjustmentBlue | 0 |
LuminanceAdjustmentGreen | 0 |
LuminanceAdjustmentMagenta | 0 |
LuminanceAdjustmentOrange | 0 |
LuminanceAdjustmentPurple | 0 |
LuminanceAdjustmentRed | 0 |
LuminanceAdjustmentYellow | 0 |
LuminanceSmoothing | 0 |
Make | Canon |
MaxApertureValue | 2.8 |
Megapixels | 6.1 |
MeteringMode | Multi-segment |
Model | Canon EOS R5 |
ModifyDate (1) | 2021:08:30 14:00:36+02:00 |
ModifyDate | 2021:08:30 14:00:36 |
OverrideLookVignette | False |
ParametricDarks | 0 |
ParametricHighlights | 0 |
ParametricHighlightSplit | 75 |
ParametricLights | 0 |
ParametricMidtoneSplit | 50 |
ParametricShadows | 0 |
ParametricShadowSplit | 25 |
PerspectiveAspect | 0 |
PerspectiveHorizontal | 0 |
PerspectiveRotate | 0.0 |
PerspectiveScale | 100 |
PerspectiveUpright | 0 |
PerspectiveVertical | 0 |
PerspectiveX | 0.00 |
PerspectiveY | 0.00 |
PostCropVignetteAmount | 0 |
PreservedFileName | IMGL2079.CR3 |
ProcessVersion | 11.0 |
ProfileDescription | sRGB IEC61966-2.1 |
RawFileName | IMGL2079.CR3 |
RecommendedExposureIndex | 400 |
RedHue | 0 |
RedSaturation | 0 |
Rights | (C) RP |
Saturation | 0 |
SaturationAdjustmentAqua | 0 |
SaturationAdjustmentBlue | 0 |
SaturationAdjustmentGreen | 0 |
SaturationAdjustmentMagenta | 0 |
SaturationAdjustmentOrange | 0 |
SaturationAdjustmentPurple | 0 |
SaturationAdjustmentRed | 0 |
SaturationAdjustmentYellow | 0 |
ScaleFactor35efl | 1.0 |
SceneCaptureType | Standard |
SensitivityType | Recommended Exposure Index |
SerialNumber | 023021001636 |
Shadows2012 | 0 |
ShadowTint | 0 |
SharpenDetail | 25 |
SharpenEdgeMasking | 0 |
SharpenRadius | +1.0 |
Sharpness | 40 |
ShutterSpeed | 1/1600 |
ShutterSpeedValue | 1/1600 |
Software | Adobe Photoshop Lightroom Classic 10.4 (Windows) |
SplitToningBalance | 0 |
SplitToningHighlightHue | 0 |
SplitToningHighlightSaturation | 0 |
SplitToningShadowHue | 0 |
SplitToningShadowSaturation | 0 |
Texture | 0 |
Tint | +25 |
ToneCurveName2012 | Linear |
ToneCurvePV2012 | 0, 0, 255, 255 |
ToneCurvePV2012Blue | 0, 0, 255, 255 |
ToneCurvePV2012Green | 0, 0, 255, 255 |
ToneCurvePV2012Red | 0, 0, 255, 255 |
Version | 13.3 |
Vibrance | 0 |
VignetteAmount | 0 |
VignetteCorrectionAlreadyApplied | True |
WhiteBalance (1) | As Shot |
WhiteBalance | Auto |
Whites2012 | 0 |