Felt | Verdi |
AlreadyApplied | True |
Artist | ARILD THINGVOLL |
AutoLateralCA | 0 |
BitsPerSample | 8 |
Blacks2012 | 0 |
BlueHue | 0 |
BlueSaturation | 0 |
By-line | ARILD THINGVOLL |
CameraProfile | Embedded |
CircGradBasedCorrActive | true |
CircGradBasedCorrAmount | 1.000000 |
CircGradBasedCorrBrightness | 0.000000 |
CircGradBasedCorrClarity2012 | 0.000000 |
CircGradBasedCorrContrast2012 | 0.000000 |
CircGradBasedCorrCorrectionRangeMaskColorAmount | 0.500000 |
CircGradBasedCorrCorrectionRangeMaskDepthFeather | 0.500000 |
CircGradBasedCorrCorrectionRangeMaskDepthMax | 1.000000 |
CircGradBasedCorrCorrectionRangeMaskDepthMin | 0.000000 |
CircGradBasedCorrCorrectionRangeMaskLumFeather | 0.500000 |
CircGradBasedCorrCorrectionRangeMaskLumMax | 1.000000 |
CircGradBasedCorrCorrectionRangeMaskLumMin | 0.000000 |
CircGradBasedCorrCorrectionRangeMaskType | 0 |
CircGradBasedCorrCorrectionRangeMaskVersion | +2 |
CircGradBasedCorrDefringe | 0.000000 |
CircGradBasedCorrExposure2012 (13) | 0.130500 |
CircGradBasedCorrExposure2012 (3) | 0.326000 |
CircGradBasedCorrExposure2012 (4) | 0.304250 |
CircGradBasedCorrExposure2012 (7) | 0.174000 |
CircGradBasedCorrExposure2012 (8) | 0.217500 |
CircGradBasedCorrExposure2012 (9) | 0.043500 |
CircGradBasedCorrExposure2012 | 0.108750 |
CircGradBasedCorrHighlights2012 | 0.000000 |
CircGradBasedCorrHue | 101.000000 |
CircGradBasedCorrLocalBlacks2012 | 0.000000 |
CircGradBasedCorrLocalDehaze | 0.000000 |
CircGradBasedCorrLocalTexture | 0.000000 |
CircGradBasedCorrLocalWhites2012 (12) | 0.260870 |
CircGradBasedCorrLocalWhites2012 | 0.000000 |
CircGradBasedCorrLuminanceNoise | 0.000000 |
CircGradBasedCorrMaskAngle (13) | -7.736560 |
CircGradBasedCorrMaskAngle | 0.000000 |
CircGradBasedCorrMaskBottom (1) | 0.612553 |
CircGradBasedCorrMaskBottom (10) | 0.554811 |
CircGradBasedCorrMaskBottom (11) | 0.564015 |
CircGradBasedCorrMaskBottom (12) | 0.715482 |
CircGradBasedCorrMaskBottom (13) | 0.722547 |
CircGradBasedCorrMaskBottom (14) | 0.748954 |
CircGradBasedCorrMaskBottom (2) | 0.426778 |
CircGradBasedCorrMaskBottom (3) | 0.680334 |
CircGradBasedCorrMaskBottom (4) | 0.644351 |
CircGradBasedCorrMaskBottom (5) | 0.924687 |
CircGradBasedCorrMaskBottom (6) | 0.888704 |
CircGradBasedCorrMaskBottom (7) | 0.959834 |
CircGradBasedCorrMaskBottom (8) | 0.671967 |
CircGradBasedCorrMaskBottom (9) | 0.523850 |
CircGradBasedCorrMaskBottom | 0.785775 |
CircGradBasedCorrMaskFeather | +100 |
CircGradBasedCorrMaskFlipped | true |
CircGradBasedCorrMaskLeft (1) | 0.698616 |
CircGradBasedCorrMaskLeft (10) | 0.247564 |
CircGradBasedCorrMaskLeft (11) | 0.413633 |
CircGradBasedCorrMaskLeft (12) | 0.846232 |
CircGradBasedCorrMaskLeft (13) | 0.567579 |
CircGradBasedCorrMaskLeft (14) | 0.353152 |
CircGradBasedCorrMaskLeft (2) | 0.665812 |
CircGradBasedCorrMaskLeft (3) | 0.827268 |
CircGradBasedCorrMaskLeft (4) | 0.928754 |
CircGradBasedCorrMaskLeft (5) | 0.821117 |
CircGradBasedCorrMaskLeft (6) | 0.666325 |
CircGradBasedCorrMaskLeft (7) | 0.307535 |
CircGradBasedCorrMaskLeft (8) | 0.926704 |
CircGradBasedCorrMaskLeft (9) | 0.935930 |
CircGradBasedCorrMaskLeft | 0.175807 |
CircGradBasedCorrMaskMidpoint | +50 |
CircGradBasedCorrMaskRight (1) | 0.771399 |
CircGradBasedCorrMaskRight (10) | 0.311122 |
CircGradBasedCorrMaskRight (11) | 0.477191 |
CircGradBasedCorrMaskRight (12) | 0.994874 |
CircGradBasedCorrMaskRight (13) | 0.701514 |
CircGradBasedCorrMaskRight (14) | 0.417734 |
CircGradBasedCorrMaskRight (2) | 0.738595 |
CircGradBasedCorrMaskRight (3) | 0.928755 |
CircGradBasedCorrMaskRight (4) | 1.001540 |
CircGradBasedCorrMaskRight (5) | 0.939006 |
CircGradBasedCorrMaskRight (6) | 0.784214 |
CircGradBasedCorrMaskRight (7) | 0.425424 |
CircGradBasedCorrMaskRight (8) | 0.994362 |
CircGradBasedCorrMaskRight (9) | 1.003590 |
CircGradBasedCorrMaskRight | 0.240389 |
CircGradBasedCorrMaskRoundness | 0 |
CircGradBasedCorrMaskTop (1) | 0.523850 |
CircGradBasedCorrMaskTop (10) | 0.466108 |
CircGradBasedCorrMaskTop (11) | 0.495396 |
CircGradBasedCorrMaskTop (12) | 0.666946 |
CircGradBasedCorrMaskTop (13) | 0.716783 |
CircGradBasedCorrMaskTop (14) | 0.687029 |
CircGradBasedCorrMaskTop (2) | 0.279499 |
CircGradBasedCorrMaskTop (3) | 0.533055 |
CircGradBasedCorrMaskTop (4) | 0.497072 |
CircGradBasedCorrMaskTop (5) | 0.779080 |
CircGradBasedCorrMaskTop (6) | 0.743097 |
CircGradBasedCorrMaskTop (7) | 0.814227 |
CircGradBasedCorrMaskTop (8) | 0.578242 |
CircGradBasedCorrMaskTop (9) | 0.430125 |
CircGradBasedCorrMaskTop | 0.717154 |
CircGradBasedCorrMaskValue | 1.000000 |
CircGradBasedCorrMaskVersion | +2 |
CircGradBasedCorrMaskWhat | Mask/CircularGradient |
CircGradBasedCorrMoire | 0.000000 |
CircGradBasedCorrSaturation | 0.000000 |
CircGradBasedCorrShadows2012 (8) | 0.391300 |
CircGradBasedCorrShadows2012 | 0.000000 |
CircGradBasedCorrSharpness | 0.000000 |
CircGradBasedCorrTemperature | 0.000000 |
CircGradBasedCorrTint | 0.000000 |
CircGradBasedCorrWhat | Correction |
Clarity2012 | +17 |
ColorComponents | 3 |
ColorNoiseReduction | 33 |
ColorNoiseReductionDetail | 50 |
ColorNoiseReductionSmoothness | 50 |
ColorSpace | sRGB |
ColorTransform | YCbCr |
Contrast2012 | +17 |
ConvertToGrayscale | False |
Creator | ARILD THINGVOLL |
CreatorTool | Adobe Photoshop Lightroom Classic 8.4 (Windows) |
DateCreated (1) | 2018:10:17 |
DateCreated | 2018:10:17 20:16:55.194 |
DateTimeOriginal | 2018:10:17 20:16:55 |
DefringeGreenAmount | 0 |
DefringeGreenHueHi | 60 |
DefringeGreenHueLo | 40 |
DefringePurpleAmount | 0 |
DefringePurpleHueHi | 70 |
DefringePurpleHueLo | 30 |
Dehaze | 0 |
Exposure2012 | 0.00 |
Format | image/jpeg |
GradientBasedCorrActive | true |
GradientBasedCorrAmount | 1.000000 |
GradientBasedCorrBrightness | 0.000000 |
GradientBasedCorrClarity2012 | 0.000000 |
GradientBasedCorrContrast2012 | 0.000000 |
GradientBasedCorrCorrectionRangeMaskAreaModelsAreaComponents | 0.751888 0.322400 0.109865 0.020000, 0.788853 0.321714 0.106882 0.020000, 0.825818 0.320981 0.112604 0.020000, 0.862783 0.324048 0.112879 0.020000, 0.899748 0.322911 0.111551 0.020000 |
GradientBasedCorrCorrectionRangeMaskAreaModelsAreaPosition | 0.678938 0.153774 0 |
GradientBasedCorrCorrectionRangeMaskColorAmount (1) | 0.500000 |
GradientBasedCorrCorrectionRangeMaskColorAmount | 1.000000 |
GradientBasedCorrCorrectionRangeMaskDepthFeather | 0.500000 |
GradientBasedCorrCorrectionRangeMaskDepthMax | 1.000000 |
GradientBasedCorrCorrectionRangeMaskDepthMin | 0.000000 |
GradientBasedCorrCorrectionRangeMaskLumFeather | 0.500000 |
GradientBasedCorrCorrectionRangeMaskLumMax | 1.000000 |
GradientBasedCorrCorrectionRangeMaskLumMin | 0.000000 |
GradientBasedCorrCorrectionRangeMaskType (1) | 0 |
GradientBasedCorrCorrectionRangeMaskType | +1 |
GradientBasedCorrCorrectionRangeMaskVersion | +2 |
GradientBasedCorrDefringe | 0.000000 |
GradientBasedCorrExposure2012 (1) | 0.108750 |
GradientBasedCorrExposure2012 | 0.000000 |
GradientBasedCorrHighlights2012 | 0.000000 |
GradientBasedCorrHue | 0.000000 |
GradientBasedCorrLocalBlacks2012 | 0.000000 |
GradientBasedCorrLocalDehaze | 0.000000 |
GradientBasedCorrLocalWhites2012 (1) | 0.000000 |
GradientBasedCorrLocalWhites2012 | 0.108700 |
GradientBasedCorrLuminanceNoise | 0.000000 |
GradientBasedCorrMaskFullX (1) | 0.615867 |
GradientBasedCorrMaskFullX | 0.506263 |
GradientBasedCorrMaskFullY (1) | 0.375582 |
GradientBasedCorrMaskFullY | -0.356255 |
GradientBasedCorrMaskValue | 1.000000 |
GradientBasedCorrMaskWhat | Mask/Gradient |
GradientBasedCorrMaskZeroX (1) | 0.615867 |
GradientBasedCorrMaskZeroX | 0.556784 |
GradientBasedCorrMaskZeroY (1) | 0.577819 |
GradientBasedCorrMaskZeroY | 0.231643 |
GradientBasedCorrMoire | 0.000000 |
GradientBasedCorrSaturation | 0.000000 |
GradientBasedCorrShadows2012 | 0.000000 |
GradientBasedCorrSharpness | 0.000000 |
GradientBasedCorrTemperature | 0.000000 |
GradientBasedCorrTint | 0.000000 |
GradientBasedCorrWhat | Correction |
GrainAmount | 0 |
GreenHue | 0 |
GreenSaturation | 0 |
HasCrop | False |
HasSettings | True |
Highlights2012 | +40 |
HueAdjustmentAqua | 0 |
HueAdjustmentBlue | 0 |
HueAdjustmentGreen | 0 |
HueAdjustmentMagenta | 0 |
HueAdjustmentOrange | 0 |
HueAdjustmentPurple | 0 |
HueAdjustmentRed | 0 |
HueAdjustmentYellow | 0 |
ImageHeight | 735 |
ImageSize | 1200x735 |
ImageWidth | 1200 |
IncrementalTemperature | 0 |
IncrementalTint | 0 |
Keywords | 1018, Oslo, landskap |
LensManualDistortionAmount | 0 |
LensProfileEnable | 0 |
LensProfileSetup | LensDefaults |
LookName | |
LuminanceAdjustmentAqua | 0 |
LuminanceAdjustmentBlue | 0 |
LuminanceAdjustmentGreen | 0 |
LuminanceAdjustmentMagenta | 0 |
LuminanceAdjustmentOrange | 0 |
LuminanceAdjustmentPurple | 0 |
LuminanceAdjustmentRed | 0 |
LuminanceAdjustmentYellow | 0 |
LuminanceNoiseReductionContrast | 15 |
LuminanceNoiseReductionDetail | 54 |
LuminanceSmoothing | 40 |
Megapixels | 0.882 |
ModifyDate (1) | 2019:09:18 21:08:45+02:00 |
ModifyDate | 2019:09:18 21:08:45 |
OverrideLookVignette | False |
PaintCorrectionActive | true |
PaintCorrectionAmount | 1.000000 |
PaintCorrectionBrightness | 0.000000 |
PaintCorrectionClarity2012 | 0.000000 |
PaintCorrectionContrast2012 | 0.000000 |
PaintCorrectionCorrectionRangeMaskColorAmount | 0.500000 |
PaintCorrectionCorrectionRangeMaskDepthFeather | 0.500000 |
PaintCorrectionCorrectionRangeMaskDepthMax | 1.000000 |
PaintCorrectionCorrectionRangeMaskDepthMin | 0.000000 |
PaintCorrectionCorrectionRangeMaskLumFeather | 0.500000 |
PaintCorrectionCorrectionRangeMaskLumMax | 1.000000 |
PaintCorrectionCorrectionRangeMaskLumMin | 0.000000 |
PaintCorrectionCorrectionRangeMaskType | 0 |
PaintCorrectionCorrectionRangeMaskVersion | +2 |
PaintCorrectionDefringe | 0.000000 |
PaintCorrectionExposure2012 (1) | 0.021750 |
PaintCorrectionExposure2012 | -0.260750 |
PaintCorrectionHighlights2012 | 0.000000 |
PaintCorrectionHue | 101.000000 |
PaintCorrectionLocalBlacks2012 | 0.000000 |
PaintCorrectionLocalDehaze | 0.000000 |
PaintCorrectionLocalTexture (1) | 0.000000 |
PaintCorrectionLocalTexture | 0.108700 |
PaintCorrectionLocalWhites2012 | 0.000000 |
PaintCorrectionLuminanceNoise | 0.000000 |
PaintCorrectionMaskCenterWeight | 0.000000 |
PaintCorrectionMaskFlow | 1.000000 |
PaintCorrectionMaskRadius (1) | 0.145467 |
PaintCorrectionMaskRadius (2) | 0.074678 |
PaintCorrectionMaskRadius (3) | 0.060268 |
PaintCorrectionMaskRadius (4) | 0.104939 |
PaintCorrectionMaskRadius | 0.039553 |
PaintCorrectionMaskValue | 1.000000 |
PaintCorrectionMaskWhat | Mask/Paint |
PaintCorrectionMoire | 0.000000 |
PaintCorrectionSaturation | 0.000000 |
PaintCorrectionShadows2012 | 0.000000 |
PaintCorrectionSharpness | 0.000000 |
PaintCorrectionTemperature (1) | 0.000000 |
PaintCorrectionTemperature | 0.152170 |
PaintCorrectionTint | 0.000000 |
PaintCorrectionWhat | Correction |
ParametricDarks | 0 |
ParametricHighlights | 0 |
ParametricHighlightSplit | 75 |
ParametricLights | +36 |
ParametricMidtoneSplit | 50 |
ParametricShadows | +36 |
ParametricShadowSplit | 25 |
PerspectiveAspect | 0 |
PerspectiveHorizontal | 0 |
PerspectiveRotate | 0.0 |
PerspectiveScale | 100 |
PerspectiveUpright | 0 |
PerspectiveVertical | 0 |
PerspectiveX | 0.00 |
PerspectiveY | 0.00 |
PostCropVignetteAmount | 0 |
ProcessVersion | 11.0 |
ProfileDescription | sRGB IEC61966-2.1 |
RangeMaskMapInfoRangeMaskMapInfoLabMax | 0.999435 0.604837 0.689799 |
RangeMaskMapInfoRangeMaskMapInfoLabMin | 0.001373 0.437522 0.404089 |
RangeMaskMapInfoRangeMaskMapInfoRGBMax | 0.249454 0.233707 0.221393 |
RangeMaskMapInfoRangeMaskMapInfoRGBMin | 0.000855 0.000946 0.000534 |
RawFileName | |
RedHue | 0 |
RedSaturation | 0 |
Saturation | 0 |
SaturationAdjustmentAqua | 0 |
SaturationAdjustmentBlue | 0 |
SaturationAdjustmentGreen | 0 |
SaturationAdjustmentMagenta | 0 |
SaturationAdjustmentOrange | 0 |
SaturationAdjustmentPurple | 0 |
SaturationAdjustmentRed | 0 |
SaturationAdjustmentYellow | 0 |
Shadows2012 | 0 |
ShadowTint | 0 |
SharpenDetail | 25 |
SharpenEdgeMasking | 0 |
SharpenRadius | +1.0 |
Sharpness | 0 |
Software | Adobe Photoshop Lightroom Classic 8.4 (Windows) |
SplitToningBalance | 0 |
SplitToningHighlightHue | 0 |
SplitToningHighlightSaturation | 0 |
SplitToningShadowHue | 0 |
SplitToningShadowSaturation | 0 |
Subject | 1018, Oslo, landskap |
Texture | 0 |
ToneCurve | 0, 0, 255, 255 |
ToneCurveBlue | 0, 0, 255, 255 |
ToneCurveGreen | 0, 0, 255, 255 |
ToneCurveName | Linear |
ToneCurveName2012 | Linear |
ToneCurvePV2012 | 0, 0, 255, 255 |
ToneCurvePV2012Blue | 0, 0, 255, 255 |
ToneCurvePV2012Green | 0, 0, 255, 255 |
ToneCurvePV2012Red | 0, 0, 255, 255 |
ToneCurveRed | 0, 0, 255, 255 |
ToneMapStrength | 0 |
Version | 11.4 |
Vibrance | 0 |
VignetteAmount | 0 |
WhiteBalance | As Shot |
Whites2012 | 0 |