Felt | Verdi |
AlreadyApplied | True |
Aperture | 4.0 |
ApertureValue | 4.0 |
AutoLateralCA | 1 |
AutoWhiteVersion | 134348800 |
BitsPerSample | 8 |
Blacks2012 | -53 |
BlueHue | 0 |
BlueSaturation | 0 |
BrightnessValue | -3.72890625 |
CameraProfile | Adobe Standard |
CircleOfConfusion | 0.020 mm |
Clarity2012 | +20 |
ColorComponents | 3 |
ColorMode | RGB |
ColorNoiseReduction | 100 |
ColorNoiseReductionDetail | 50 |
ColorNoiseReductionSmoothness | 50 |
ColorSpace | Uncalibrated |
ColorTemperature | 3000 |
ColorTransform | YCbCr |
Contrast | Normal |
Contrast2012 | +23 |
ConvertToGrayscale | False |
CreateDate | 2017:07:15 00:40:23 |
CreatorTool | Adobe Photoshop CC 2017 (Windows) |
CustomRendered | Normal |
DateCreated (1) | 2017:07:15 |
DateCreated | 2017:07:15 00:40:23 |
DateTimeOriginal | 2017:07:15 00:40:23 |
DefringeGreenAmount | 2 |
DefringeGreenHueHi | 73 |
DefringeGreenHueLo | 28 |
DefringePurpleAmount | 2 |
DefringePurpleHueHi | 70 |
DefringePurpleHueLo | 30 |
Dehaze | +28 |
DigitalZoomRatio | 1 |
DistortionCorrectionAlreadyApplied | True |
ExifImageHeight | 4000 |
ExifImageWidth | 6000 |
Exposure2012 | -0.35 |
ExposureCompensation | 0 |
ExposureMode | Auto |
ExposureProgram | Program AE |
ExposureTime | 1/13 |
Flash | Auto, Did not fire |
FNumber | 4.0 |
FocalLength | 21.0 mm |
FocalLength35efl | 21.0 mm (35 mm equivalent: 31.0 mm) |
FocalLengthIn35mmFormat | 31 mm |
Format | image/jpeg |
FOV | 60.3 deg |
GrainAmount | 0 |
GreenHue | 0 |
GreenSaturation | 0 |
HasCrop | False |
HasSettings | True |
Highlights2012 | -31 |
HueAdjustmentAqua | 0 |
HueAdjustmentBlue | 0 |
HueAdjustmentGreen | 0 |
HueAdjustmentMagenta | 0 |
HueAdjustmentOrange | 0 |
HueAdjustmentPurple | 0 |
HueAdjustmentRed | 0 |
HueAdjustmentYellow | 0 |
HyperfocalDistance | 5.42 m |
ICCProfileName | Adobe RGB (1998) |
ImageHeight | 4000 |
ImageSize | 6000x4000 |
ImageWidth | 6000 |
ISO | 3200 |
LateralChromaticAberrationCorrectionAlreadyApplied | True |
Lens | E PZ 16-50mm F3.5-5.6 OSS |
LensDistortInfo | 33707/32768 -116854166/1073741824 59462057/1073741824 -18902896/1073741824 |
LensInfo | 16-50mm f/3.5-5.6 |
LensManualDistortionAmount | 0 |
LensModel | E PZ 16-50mm F3.5-5.6 OSS |
LensProfileChromaticAberrationScale | 100 |
LensProfileDistortionScale | 100 |
LensProfileEnable | 1 |
LensProfileFilename | SONY (Sony E PZ 16-50mm F3.5-5.6 OSS) - RAW.lcp |
LensProfileName | Adobe (Sony E PZ 16-50mm F3.5-5.6 OSS) |
LensProfileSetup | LensDefaults |
LensProfileVignettingScale | 100 |
LightSource | Unknown |
LightValue | 2.7 |
LuminanceAdjustmentAqua | 0 |
LuminanceAdjustmentBlue | 0 |
LuminanceAdjustmentGreen | 0 |
LuminanceAdjustmentMagenta | 0 |
LuminanceAdjustmentOrange | 0 |
LuminanceAdjustmentPurple | 0 |
LuminanceAdjustmentRed | 0 |
LuminanceAdjustmentYellow | 0 |
LuminanceNoiseReductionContrast | 100 |
LuminanceNoiseReductionDetail | 100 |
LuminanceSmoothing | 36 |
Make | SONY |
MaxApertureValue | 4.0 |
Megapixels | 24.0 |
MeteringMode | Multi-segment |
Model | ILCE-6000 |
ModifyDate (1) | 2017:08:01 22:10:25+02:00 |
ModifyDate | 2017:08:01 22:10:25 |
Orientation | Horizontal (normal) |
ParametricDarks | 0 |
ParametricHighlights | 0 |
ParametricHighlightSplit | 75 |
ParametricLights | 0 |
ParametricMidtoneSplit | 50 |
ParametricShadows | -7 |
ParametricShadowSplit | 25 |
PerspectiveAspect | 0 |
PerspectiveHorizontal | 0 |
PerspectiveRotate | 0.0 |
PerspectiveScale | 100 |
PerspectiveUpright | 0 |
PerspectiveVertical | 0 |
PerspectiveX | 0.00 |
PerspectiveY | 0.00 |
PostCropVignetteAmount | 0 |
ProcessVersion | 6.7 |
ProfileDescription | Adobe RGB (1998) |
Rating | 0 |
RawFileName | DSC09877.ARW |
RecommendedExposureIndex | 3200 |
RedHue | 0 |
RedSaturation | 0 |
Saturation (1) | +9 |
Saturation | Normal |
SaturationAdjustmentAqua | 0 |
SaturationAdjustmentBlue | 0 |
SaturationAdjustmentGreen | -14 |
SaturationAdjustmentMagenta | 0 |
SaturationAdjustmentOrange | 0 |
SaturationAdjustmentPurple | 0 |
SaturationAdjustmentRed | 0 |
SaturationAdjustmentYellow | -7 |
ScaleFactor35efl | 1.5 |
SceneCaptureType | Standard |
SceneType | Directly photographed |
SensitivityType | Recommended Exposure Index |
Shadows2012 | +27 |
ShadowTint | 0 |
SharpenDetail | 25 |
SharpenEdgeMasking | 0 |
SharpenRadius | +1.0 |
Sharpness (1) | 25 |
Sharpness | Normal |
ShutterSpeed | 1/13 |
ShutterSpeedValue | 1/13 |
Software | Adobe Photoshop CC 2017 (Windows) |
SplitToningBalance | 0 |
SplitToningHighlightHue | 0 |
SplitToningHighlightSaturation | 0 |
SplitToningShadowHue | 0 |
SplitToningShadowSaturation | 0 |
Tint | +10 |
ToneCurve | 0, 0, 32, 22, 64, 56, 128, 128, 192, 196, 255, 255 |
ToneCurveBlue | 0, 0, 255, 255 |
ToneCurveGreen | 0, 0, 255, 255 |
ToneCurveName | Medium Contrast |
ToneCurveName2012 | Linear |
ToneCurvePV2012 | 0, 0, 255, 255 |
ToneCurvePV2012Blue | 0, 0, 255, 255 |
ToneCurvePV2012Green | 0, 0, 255, 255 |
ToneCurvePV2012Red | 0, 0, 255, 255 |
ToneCurveRed | 0, 0, 255, 255 |
ToneMapStrength | 0 |
URL_List | |
Version | 9.8 |
Vibrance | +6 |
VignetteAmount | 0 |
VignetteCorrectionAlreadyApplied | True |
WhiteBalance (1) | As Shot |
WhiteBalance | Auto |
Whites2012 | 0 |