Felt | Verdi |
AlreadyApplied | True |
Aperture | 10.0 |
ApertureValue | 10.0 |
ApproximateFocusDistance | 43.8 |
Artist | fotograf : Svein Hansen |
AutoLateralCA | 0 |
AutoWhiteVersion | 134348800 |
BitsPerSample | 8 |
Blacks2012 | -3 |
BlueHue | 0 |
BlueSaturation | 0 |
By-line | fotograf : Svein Hansen |
CameraProfile | Embedded |
CircleOfConfusion | 0.014 mm |
Clarity2012 | +5 |
ColorComponents | 3 |
ColorNoiseReduction | 0 |
ColorSpace | sRGB |
ColorTransform | YCbCr |
Contrast2012 | 0 |
ConvertToGrayscale | False |
Copyright | Copyright - Svein Hansen |
CopyrightFlag | True |
CopyrightNotice | Copyright - Svein Hansen |
CreateDate (1) | 2017:05:21 06:12:45.98 |
CreateDate | 2017:05:21 06:12:45 |
Creator | fotograf : Svein Hansen |
CreatorAddress | Svingen 5 |
CreatorCity | Kråkerøy |
CreatorCountry | Norway |
CreatorPostalCode | 1671 |
CreatorRegion | Fredrikstad |
CreatorTool | Adobe Photoshop Lightroom 6.10 (Windows) |
CreatorWorkEmail | post@sveinfoto.no |
CreatorWorkTelephone | 90764526 |
CreatorWorkURL | www.sveinfoto.no |
CropAngle | 0 |
CropBottom | 0.937552 |
CropConstrainToWarp | 0 |
CropLeft | 0.127416 |
CropRight | 1 |
CropTop | 0.064968 |
DateCreated (1) | 2017:05:21 |
DateCreated | 2017:05:21 06:12:45.98 |
DateTimeOriginal | 2017:05:21 06:12:45 |
DefringeGreenAmount | 0 |
DefringeGreenHueHi | 60 |
DefringeGreenHueLo | 40 |
DefringePurpleAmount | 0 |
DefringePurpleHueHi | 70 |
DefringePurpleHueLo | 30 |
Dehaze | 0 |
DistortionCorrectionAlreadyApplied | True |
DOF | 5.81 m (41.09 - 46.90 m) |
Exposure2012 | 0.00 |
ExposureCompensation | +1/3 |
ExposureMode | Auto |
ExposureProgram | Shutter speed priority AE |
ExposureTime | 1/1250 |
Firmware | 1.3.4 |
Flash | No Flash |
FlashCompensation | 0 |
FNumber | 10.0 |
FocalLength | 300.0 mm |
FocalLength35efl | 300.0 mm (35 mm equivalent: 659.8 mm) |
Format | image/jpeg |
FOV | 3.1 deg |
GrainAmount | 0 |
GreenHue | 0 |
GreenSaturation | 0 |
HasCrop | True |
HasSettings | True |
Highlights2012 | -100 |
HueAdjustmentAqua | 0 |
HueAdjustmentBlue | 0 |
HueAdjustmentGreen | 0 |
HueAdjustmentMagenta | 0 |
HueAdjustmentOrange | 0 |
HueAdjustmentPurple | 0 |
HueAdjustmentRed | 0 |
HueAdjustmentYellow | 0 |
HyperfocalDistance | 658.78 m |
ImageHeight | 1746 |
ImageNumber | 0 |
ImageSize | 2619x1746 |
ImageWidth | 2619 |
IncrementalTemperature | 0 |
IncrementalTint | 0 |
ISO | 800 |
Keywords | Flatanger, Havørn, Ørn |
Label | Fugl - Dyr |
LateralChromaticAberrationCorrectionAlreadyApplied | True |
Lens | EF100-400mm f/4.5-5.6L IS II USM |
LensID (1) | 747 |
LensID | Canon EF 100-400mm f/4.5-5.6L IS II USM |
LensInfo | 100-400mm f/? |
LensManualDistortionAmount | 0 |
LensModel | EF100-400mm f/4.5-5.6L IS II USM |
LensProfileEnable | 0 |
LensProfileSetup | LensDefaults |
LensSerialNumber | 3610006685 |
LightValue | 13.9 |
LuminanceAdjustmentAqua | 0 |
LuminanceAdjustmentBlue | 0 |
LuminanceAdjustmentGreen | 0 |
LuminanceAdjustmentMagenta | 0 |
LuminanceAdjustmentOrange | 0 |
LuminanceAdjustmentPurple | 0 |
LuminanceAdjustmentRed | 0 |
LuminanceAdjustmentYellow | 0 |
LuminanceNoiseReductionContrast | 0 |
LuminanceNoiseReductionDetail | 50 |
LuminanceSmoothing | 54 |
Make | Canon |
Marked | True |
MaxApertureValue | 5.2 |
Megapixels | 4.6 |
MeteringMode | Center-weighted average |
Model | Canon EOS 5D Mark III |
ModifyDate (1) | 2017:05:23 12:50:27+02:00 |
ModifyDate | 2017:05:23 12:50:27 |
ParametricDarks | 0 |
ParametricHighlights | 0 |
ParametricHighlightSplit | 75 |
ParametricLights | 0 |
ParametricMidtoneSplit | 50 |
ParametricShadows | 0 |
ParametricShadowSplit | 25 |
PerspectiveAspect | 0 |
PerspectiveHorizontal | 0 |
PerspectiveRotate | 0.0 |
PerspectiveScale | 100 |
PerspectiveUpright | 0 |
PerspectiveVertical | 0 |
PerspectiveX | 0.00 |
PerspectiveY | 0.00 |
PhotographicSensitivity | 800 |
PostCropVignetteAmount | 0 |
ProcessVersion | 6.7 |
ProfileDescription | sRGB IEC61966-2.1 |
Rating | 3 |
RedHue | 0 |
RedSaturation | 0 |
Rights | Copyright - Svein Hansen |
Saturation | 0 |
SaturationAdjustmentAqua | 0 |
SaturationAdjustmentBlue | 0 |
SaturationAdjustmentGreen | 0 |
SaturationAdjustmentMagenta | 0 |
SaturationAdjustmentOrange | 0 |
SaturationAdjustmentPurple | 0 |
SaturationAdjustmentRed | 0 |
SaturationAdjustmentYellow | 0 |
ScaleFactor35efl | 2.2 |
SceneCaptureType | Standard |
SerialNumber | 413023002460 |
Shadows2012 | +73 |
ShadowTint | 0 |
SharpenDetail | 25 |
SharpenEdgeMasking | 0 |
SharpenRadius | +1.0 |
Sharpness | 44 |
ShutterSpeed | 1/1250 |
ShutterSpeedValue | 1/1250 |
Software | Adobe Photoshop Lightroom 6.10 (Windows) |
SplitToningBalance | 0 |
SplitToningHighlightHue | 0 |
SplitToningHighlightSaturation | 0 |
SplitToningShadowHue | 0 |
SplitToningShadowSaturation | 0 |
Subject | Flatanger, Havørn, Ørn |
ToneCurve | 0, 0, 255, 255 |
ToneCurveBlue | 0, 0, 255, 255 |
ToneCurveGreen | 0, 0, 255, 255 |
ToneCurveName | Linear |
ToneCurveName2012 | Linear |
ToneCurvePV2012 | 0, 0, 255, 255 |
ToneCurvePV2012Blue | 0, 0, 255, 255 |
ToneCurvePV2012Green | 0, 0, 255, 255 |
ToneCurvePV2012Red | 0, 0, 255, 255 |
ToneCurveRed | 0, 0, 255, 255 |
ToneMapStrength | 0 |
UsageTerms | -det er ikke lov å bruke elle kopiere bilde uten skriftelig tilatelse |
Version | 9.10 |
Vibrance | 0 |
VignetteAmount | 0 |
VignetteCorrectionAlreadyApplied | True |
WhiteBalance (1) | As Shot |
WhiteBalance | Auto |
Whites2012 | +22 |